BEGIN:VCALENDAR
VERSION:2.0
PRODID:-//wp-events-plugin.com//6.4.6.4//EN
TZID:America/Detroit
X-WR-TIMEZONE:America/Detroit
BEGIN:VEVENT
UID:0-718@sites.udmercy.edu
DTSTART;TZID=America/Detroit:20250329T090000
DTEND;TZID=America/Detroit:20250329T120000
DTSTAMP:20250129T202609Z
URL:https://sites.udmercy.edu/campusconnection/events/diy-home-repair-seri
 es-mechanical-and-insulation-repairs/
SUMMARY:DIY home repair series\, mechanical and insulation repairs
DESCRIPTION:Are you looking at learning how to do home repairs? The DIY Hom
 e Repair Series set for March 8-29 might be just what you need. Learn how 
 to do basic repairs in four different areas of home improvement. This seri
 es is led by experienced building trade experts and is sponsored by the Gl
 oryland Neighborhoods Development Corporation and Gesu Catholic Church.\n\
 nAll events run from 9 a.m. to noon and take place at the Live6 Homebase\,
  located at 7426 W. McNichols in Detroit. All interested individuals must 
 register via email at elainemhavern@gmail.com.\n\nSeries Schedule:\n\n 	Pl
 umbing repairs\, Saturday\, March 8\n 	Electrical repairs\, Saturday\, Mar
 ch 15\n 	Painting and drywall repairs\, Saturday\, March 22\n 	Mechanical 
 and insulation repairs\, Saturday\, March 29\n
LOCATION:Live6 Alliance Event Space\, 7426 W. McNichols Road\, Detroit\, 48
 221\, United States
X-APPLE-STRUCTURED-LOCATION;VALUE=URI;X-ADDRESS=7426 W. McNichols Road\, De
 troit\, 48221\, United States;X-APPLE-RADIUS=100;X-TITLE=Live6 Alliance Ev
 ent Space:geo:0,0
END:VEVENT
BEGIN:VTIMEZONE
TZID:America/Detroit
X-LIC-LOCATION:America/Detroit
BEGIN:DAYLIGHT
DTSTART:20250309T030000
TZOFFSETFROM:-0500
TZOFFSETTO:-0400
TZNAME:EDT
END:DAYLIGHT
END:VTIMEZONE
END:VCALENDAR