BEGIN:VCALENDAR
VERSION:2.0
PRODID:-//wp-events-plugin.com//6.4.6.4//EN
TZID:America/Detroit
X-WR-TIMEZONE:America/Detroit
BEGIN:VEVENT
UID:0-461@sites.udmercy.edu
DTSTART;TZID=America/Detroit:20240828T160000
DTEND;TZID=America/Detroit:20240828T180000
DTSTAMP:20240822T210317Z
URL:https://sites.udmercy.edu/campusconnection/events/dmtc-welcome-party/
SUMMARY:DMTC welcome party
DESCRIPTION:Join Detroit Mercy Theatre Company at the Theatre Welcome Party
  on Wednesday\, Aug. 28 from 4-6 p.m. in Room 164 of Reno Hall.\n\nStudent
 s can enjoy free food and fun games while learning about auditions and upc
 oming events in the Department of Performing Arts. Whether you're a season
 ed performer or a curious newcomer\, all are welcome.\n\nEmail Sarah Rusk 
 at hawkinsk@udmercy.edu with questions.
LOCATION:Reno Hall\, Room 164\, 4001 W. McNichols Road\, Detroit\, Michigan
 \, 48221\, United States
X-APPLE-STRUCTURED-LOCATION;VALUE=URI;X-ADDRESS=4001 W. McNichols Road\, De
 troit\, Michigan\, 48221\, United States;X-APPLE-RADIUS=100;X-TITLE=Reno H
 all\, Room 164:geo:0,0
END:VEVENT
BEGIN:VTIMEZONE
TZID:America/Detroit
X-LIC-LOCATION:America/Detroit
BEGIN:DAYLIGHT
DTSTART:20240310T030000
TZOFFSETFROM:-0500
TZOFFSETTO:-0400
TZNAME:EDT
END:DAYLIGHT
END:VTIMEZONE
END:VCALENDAR