BEGIN:VCALENDAR
VERSION:2.0
PRODID:-//wp-events-plugin.com//6.4.6.4//EN
TZID:America/Detroit
X-WR-TIMEZONE:America/Detroit
BEGIN:VEVENT
UID:0-687@sites.udmercy.edu
DTSTART;TZID=America/Detroit:20250214T193000
DTEND;TZID=America/Detroit:20250214T193000
DTSTAMP:20250116T185627Z
URL:https://sites.udmercy.edu/campusconnection/events/dmtcs-the-glass-mena
 gerie-4/
SUMMARY:DMTC's 'The Glass Menagerie'
DESCRIPTION:The Detroit Mercy Theatre Company brings Tennessee Williams’ 
 classic American play\, The Glass Menagerie\, to life across two weekends 
 beginning Feb. 7 at the Marlene Boll Theatre located at 1401 Broadway Stre
 et in downtown Detroit.\n\nSet in St. Louis during the 1930s\, the play fo
 llows the struggles of the Wingfield family as they navigate dreams\, desi
 res and the delicate balance between reality and illusion. Amanda\, a fade
 d Southern belle\, yearns for her past glory as she cares for her restless
  son\, Tom\, and fragile daughter\, Laura. Amanda pushes Tom to find a sui
 tor for Laura\, leading to the arrival of Jim\, a gentleman caller\, whose
  visit has unexpected consequences for the family.\n\nThe plays run Friday
 \, Saturday and Sunday across two weekends\, Feb. 7-9 and Feb. 14-16. Frid
 ay and Saturday performances begin at 7:30 p.m. and Sunday performances be
 gin at 3 p.m.\n\nSpecial Events:\n\n 	Friday\, Feb. 7 — Opening Night R
 eception &amp\; Celebration: Celebrate the opening performance with cast a
 nd crew. Sponsored by Thomas E. Page ’71\, ’76.\n 	Friday\, Feb. 7 —
  Also CHASS Night at the Theatre: $5 tickets for students and alumni of t
 he College of Liberal Arts &amp\; Education/College of Humanities\, Arts &
 amp\; Social Sciences with code CHASS25. Free tickets to faculty/staff of 
 CLAE/CHASS by emailing theatre@udmercy.edu.\n 	Saturday\, Feb. 8 — High
  School Night: Free tickets and talkback following the performance for hig
 h school students and their families. Call 313-993-3270 or email theatre@u
 dmercy.edu for reservations.\n 	Sunday\, Feb. 9 — Unmasking Tennessee W
 illiams: Explore the profound themes\, complex characters and emotional de
 pth that define Tennessee Williams’ plays. Whether you’re a long-time 
 admirer or new to his work\, this talkback promises to provide a deeper ap
 preciation of Williams’ enduring legacy in American drama. Presented by 
 UDM Professor of English Michael Barry as part of the Detroit Theatre Disc
 ussion Project.\n 	Friday\, Feb. 14 — Valentine's Day Special: All ticke
 ts $10!\n\nFor more information or any questions please email theatre@udme
 rcy.edu or visit www.udmercy.edu/life/theatre.\nGet Tickets Here!
LOCATION:Marlene Boll Theatre\, 1401 Broadway Street\, Detroit\, Michigan\,
  48226\, United States
X-APPLE-STRUCTURED-LOCATION;VALUE=URI;X-ADDRESS=1401 Broadway Street\, Detr
 oit\, Michigan\, 48226\, United States;X-APPLE-RADIUS=100;X-TITLE=Marlene 
 Boll Theatre:geo:0,0
END:VEVENT
BEGIN:VTIMEZONE
TZID:America/Detroit
X-LIC-LOCATION:America/Detroit
BEGIN:STANDARD
DTSTART:20241103T010000
TZOFFSETFROM:-0400
TZOFFSETTO:-0500
TZNAME:EST
END:STANDARD
END:VTIMEZONE
END:VCALENDAR