BEGIN:VCALENDAR
VERSION:2.0
PRODID:-//wp-events-plugin.com//6.4.6.4//EN
TZID:America/Detroit
X-WR-TIMEZONE:America/Detroit
BEGIN:VEVENT
UID:0-325@sites.udmercy.edu
DTSTART;TZID=America/Detroit:20240115T093000
DTEND;TZID=America/Detroit:20240115T180000
DTSTAMP:20231214T204226Z
URL:https://sites.udmercy.edu/campusconnection/events/eco-and-racial-justi
 ce-immersion-trip-in-detroit/
SUMMARY:Eco and Racial Justice immersion trip in Detroit
DESCRIPTION:Join Detroit Mercy’s Titan Equity Nourish Network (TENN) and 
 University Ministry for a day of fun\, new experiences\, service and refle
 ction on Monday\, Jan. 15\, 2024. The immersion event is set to run from 
 10 a.m. to 6 p.m.\n\nLearn about sustainability and advocacy\, while also 
 celebrating Martin Luther King Jr. Day. The immersion day will provide opp
 ortunities for students to experience the Detroit community by visiting lo
 cal non-profits\, learning from leaders addressing the issues of ecologica
 l and racial justice as well as making new friends and sharing together.\n
 \nA light breakfast\, lunch and transportation will be provided at no cos
 t. All Detroit Mercy students are welcome.\n\nRegister by Friday\, Jan. 1
 2. The maximum capacity for this immersion experience is 10 students. A 
 waitlist for students will be created once capacity is reached.\n\nWith an
 y questions\, please contact Chelsea Manning at mannincp@udmercy.edu or 
 Doug Baker at bakerdj2@udmercy.edu.\nSign-up here!
LOCATION:University of Detroit Mercy\, 4001 W. McNichols Road\, Detroit\, M
 ichigan\, 48221\, United States
X-APPLE-STRUCTURED-LOCATION;VALUE=URI;X-ADDRESS=4001 W. McNichols Road\, De
 troit\, Michigan\, 48221\, United States;X-APPLE-RADIUS=100;X-TITLE=Univer
 sity of Detroit Mercy:geo:0,0
END:VEVENT
BEGIN:VTIMEZONE
TZID:America/Detroit
X-LIC-LOCATION:America/Detroit
BEGIN:STANDARD
DTSTART:20231105T010000
TZOFFSETFROM:-0400
TZOFFSETTO:-0500
TZNAME:EST
END:STANDARD
END:VTIMEZONE
END:VCALENDAR