BEGIN:VCALENDAR
VERSION:2.0
PRODID:-//wp-events-plugin.com//6.4.6.4//EN
TZID:America/Detroit
X-WR-TIMEZONE:America/Detroit
BEGIN:VEVENT
UID:0-295@sites.udmercy.edu
DTSTART;TZID=America/Detroit:20231102T180000
DTEND;TZID=America/Detroit:20231102T200000
DTSTAMP:20231019T151853Z
URL:https://sites.udmercy.edu/campusconnection/events/etiquette-dinner/
SUMMARY:Etiquette Dinner
DESCRIPTION:Detroit Mercy's Etiquette Dinner for students is set for Thursd
 ay\, Nov. 2 from 6-8 p.m. in the Student Union Ballroom.\n\nHosted by the 
 Student Alumni Leadership Council\, join Detroit Mercy alumni and women of
  Stellantis in an evening of professional and personal development. Some o
 f the topics include\, building your network\, marketing your brand\, aski
 ng for help and saying "no" in the workplace.\n\nDinner and opportunities 
 to network and practice your new skills are included!\n\nBreakout sessions
  precede dinner. Business casual dress code is required for the event.\nRS
 VP for the event!
LOCATION:Student Union Ballroom\, McNichols Campus\, 4001 W. McNichols\, De
 troit\, MI\, 48221\, United States
X-APPLE-STRUCTURED-LOCATION;VALUE=URI;X-ADDRESS=4001 W. McNichols\, Detroit
 \, MI\, 48221\, United States;X-APPLE-RADIUS=100;X-TITLE=Student Union Bal
 lroom\, McNichols Campus:geo:0,0
END:VEVENT
BEGIN:VTIMEZONE
TZID:America/Detroit
X-LIC-LOCATION:America/Detroit
BEGIN:DAYLIGHT
DTSTART:20230312T030000
TZOFFSETFROM:-0500
TZOFFSETTO:-0400
TZNAME:EDT
END:DAYLIGHT
END:VTIMEZONE
END:VCALENDAR