BEGIN:VCALENDAR
VERSION:2.0
PRODID:-//wp-events-plugin.com//6.4.6.4//EN
TZID:America/Detroit
X-WR-TIMEZONE:America/Detroit
BEGIN:VEVENT
UID:0-305@sites.udmercy.edu
DTSTART;TZID=America/Detroit:20231117T180000
DTEND;TZID=America/Detroit:20231117T180000
DTSTAMP:20231108T163458Z
URL:https://sites.udmercy.edu/campusconnection/events/faculty-recognition-
 event/
SUMMARY:Faculty recognition event
DESCRIPTION:The Office of Academic Affairs are pleased to host the Faculty 
 Recognition Event\, which is slated for Friday\, Nov. 17 at 6 p.m. in th
 e Student Union Ballroom on the McNichols Campus.\n\nThe event will begin 
 with hors d’oeuvres and dinner followed by the awards ceremony. Full-tim
 e faculty\, administrators and guests will receive an invitation.\n\nThis 
 event not only honors two distinguished Detroit Mercy faculty\, but is int
 ended to recognize faculty from all of Detroit Mercy’s campuses that con
 tribute to the mission of the University and the education and development
  of the students.\n\nThose being celebrated for earning awards are:\n\n 	P
 rofessor of Law Cara Cunningham Warren\, 2023 Faculty Excellence Award\n 
 	Clare Boothe Luce Assistant Professor Megan Conrad\, 2023 Faculty Achiev
 ement Award\n\nMark your calendars! An electronic email invitation with ad
 ditional information will be sent soon. We look forward to seeing you on N
 ov. 17 for an enjoyable evening!
LOCATION:Student Union Ballroom\, McNichols Campus\, 4001 W. McNichols\, De
 troit\, MI\, 48221\, United States
X-APPLE-STRUCTURED-LOCATION;VALUE=URI;X-ADDRESS=4001 W. McNichols\, Detroit
 \, MI\, 48221\, United States;X-APPLE-RADIUS=100;X-TITLE=Student Union Bal
 lroom\, McNichols Campus:geo:0,0
END:VEVENT
BEGIN:VTIMEZONE
TZID:America/Detroit
X-LIC-LOCATION:America/Detroit
BEGIN:STANDARD
DTSTART:20231105T010000
TZOFFSETFROM:-0400
TZOFFSETTO:-0500
TZNAME:EST
END:STANDARD
END:VTIMEZONE
END:VCALENDAR