BEGIN:VCALENDAR
VERSION:2.0
PRODID:-//wp-events-plugin.com//6.4.6.4//EN
TZID:America/Detroit
X-WR-TIMEZONE:America/Detroit
BEGIN:VEVENT
UID:0-767@sites.udmercy.edu
DTSTART;TZID=America/Detroit:20250411T120000
DTEND;TZID=America/Detroit:20250411T120000
DTSTAMP:20250305T180013Z
URL:https://sites.udmercy.edu/campusconnection/events/first-annual-moot-co
 urt-competition/
SUMMARY:First annual Moot Court Competition
DESCRIPTION:The new Detroit Mercy Pre-Law Society will host its First Annua
 l Moot Court Competition on Friday\, April 11 at noon\, where students of 
 all majors can refine their legal reasoning\, public speaking and advocacy
  skills in a simulated appellate court environment. Participants will pres
 ent a hypothetical case before a distinguished panel of judges\, including
  UDM faculty.\n\nThe competition will follow a traditional moot court form
 at\, where multiple teams will present arguments on both sides of a legal 
 issue. This is an oral competition--no writing involved.\n\nThis year’s 
 competition will focus on TikTok v. Garland\, a case that examines the com
 plex intersection of national security\, free speech and corporate rights.
  Competitors will receive case materials in advance.\n\nIt only takes two 
 to make a team for this competition\, so find a friend\, come up with a te
 am name and sign up! The event will take place in the Briggs Building\, an
 d teams will be notified of their location once the match schedule is rele
 ased.\n\nParticipants will also compete for exciting awards and cash prize
 s\, including best dressed\, best presenter\, most creative speaker and mo
 re!\n\nTo register\, teams must email Pre-Law Program Director Lee Dionne 
 at dionnele@udmercy.edu by March 14.
LOCATION:Briggs Building\, 4001 W. McNichols Road\, Detroit\, Michigan\, 48
 221\, United States
X-APPLE-STRUCTURED-LOCATION;VALUE=URI;X-ADDRESS=4001 W. McNichols Road\, De
 troit\, Michigan\, 48221\, United States;X-APPLE-RADIUS=100;X-TITLE=Briggs
  Building:geo:0,0
END:VEVENT
BEGIN:VTIMEZONE
TZID:America/Detroit
X-LIC-LOCATION:America/Detroit
BEGIN:DAYLIGHT
DTSTART:20250309T030000
TZOFFSETFROM:-0500
TZOFFSETTO:-0400
TZNAME:EDT
END:DAYLIGHT
END:VTIMEZONE
END:VCALENDAR