BEGIN:VCALENDAR
VERSION:2.0
PRODID:-//wp-events-plugin.com//6.4.6.4//EN
TZID:America/Detroit
X-WR-TIMEZONE:America/Detroit
BEGIN:VEVENT
UID:0-749@sites.udmercy.edu
DTSTART;TZID=America/Detroit:20250327T130000
DTEND;TZID=America/Detroit:20250327T130000
DTSTAMP:20250318T181036Z
URL:https://sites.udmercy.edu/campusconnection/events/graduate-admission-w
 orkshop-series-session-three/
SUMMARY:Graduate admission workshop series\, session three
DESCRIPTION:Looking to further your education? Make your graduate applicati
 ons stand out by attending an upcoming graduate admission workshop\, hoste
 d by the Center for Career &amp\; Professional Development and the Office 
 of Admissions. The workshop will take place on Thursday\, March 27 at 1 p.
 m. \n\nThe session will focus on letters of recommendation/etiquette. Joi
 n us in person in the Admissions Office inside the Student Union in Room 1
 81 or virtually via Teams. Registration is not required.\n\nFor more infor
 mation or if you have any questions\, please contact Associate Director fo
 r Graduate Admissions Jennifer Goethals at 313-993-3309 or goethajm@udmerc
 y.edu.\nLearn more here!
LOCATION:Student Union\, Room 181\, 4001 W. McNichols Road\, Detroit\, MI\,
  48221\, United States
X-APPLE-STRUCTURED-LOCATION;VALUE=URI;X-ADDRESS=4001 W. McNichols Road\, De
 troit\, MI\, 48221\, United States;X-APPLE-RADIUS=100;X-TITLE=Student Unio
 n\, Room 181:geo:0,0
END:VEVENT
BEGIN:VTIMEZONE
TZID:America/Detroit
X-LIC-LOCATION:America/Detroit
BEGIN:DAYLIGHT
DTSTART:20250309T030000
TZOFFSETFROM:-0500
TZOFFSETTO:-0400
TZNAME:EDT
END:DAYLIGHT
END:VTIMEZONE
END:VCALENDAR