BEGIN:VCALENDAR
VERSION:2.0
PRODID:-//wp-events-plugin.com//6.4.6.4//EN
TZID:America/Detroit
X-WR-TIMEZONE:America/Detroit
BEGIN:VEVENT
UID:0-1031@sites.udmercy.edu
DTSTART;TZID=America/Detroit:20260410T090000
DTEND;TZID=America/Detroit:20260410T123000
DTSTAMP:20260210T134753Z
URL:https://sites.udmercy.edu/campusconnection/events/half-day-student-ret
 reat-on-discernment-and-decision-making/
SUMMARY:Half-day student retreat on discernment and decision making
DESCRIPTION:All students are invited to attend a half-day mission retreat o
 n Friday\, April 10 from 9 a.m. to 12:30 p.m.\, focusing on the theme "Pat
 hs and Purpose: Discernment in Challenging Times." This retreat will take 
 place in the Lansing-Reilly Hall on the McNichols Campus and is designed t
 o help students navigate important life and career decisions through refle
 ction and guided spiritual conversation.\n\nThis FREE event for students h
 as been organized by the Charles T. Fisher III Chair in Business Ethics &a
 mp\; College of Business Administration. Lunch will be provided at 12:30 p
 .m.\n\nTo reserve your spot at the retreat\, email Nisha Miah at miahiv@ud
 mercy.edu. Deadline to RSVP is March 30. Please include your name\, colleg
 e and any food allergies.
LOCATION:Lansing-Reilly Hall\, 4001 W. McNichols Road\, Detroit\, Michigan\
 , 48221\, United States
X-APPLE-STRUCTURED-LOCATION;VALUE=URI;X-ADDRESS=4001 W. McNichols Road\, De
 troit\, Michigan\, 48221\, United States;X-APPLE-RADIUS=100;X-TITLE=Lansin
 g-Reilly Hall:geo:0,0
END:VEVENT
BEGIN:VTIMEZONE
TZID:America/Detroit
X-LIC-LOCATION:America/Detroit
BEGIN:DAYLIGHT
DTSTART:20260308T030000
TZOFFSETFROM:-0500
TZOFFSETTO:-0400
TZNAME:EDT
END:DAYLIGHT
END:VTIMEZONE
END:VCALENDAR