BEGIN:VCALENDAR
VERSION:2.0
PRODID:-//wp-events-plugin.com//6.4.6.4//EN
TZID:America/Detroit
X-WR-TIMEZONE:America/Detroit
BEGIN:VEVENT
UID:0-615@sites.udmercy.edu
DTSTART;TZID=America/Detroit:20241204T100000
DTEND;TZID=America/Detroit:20241206T150000
DTSTAMP:20241111T155924Z
URL:https://sites.udmercy.edu/campusconnection/events/holiday-pop-up-shop-
 coming-to-mcnichols-campus-library/
SUMMARY:Holiday Pop-up Shop coming to McNichols Campus Library
DESCRIPTION:Mark your calendars! The Christmas Pop-up Shop is back! \n\nHan
 dmade items\, treats\, cards and all sorts of curious and unique items wil
 l be on sale from Wednesday\, Dec. 4 to Friday\, Dec. 6 in the McNichols C
 ampus Library lobby. Shop hours will be 10 a.m. to 3 p.m. each day.\n\nPro
 ceeds of the sale go to RX for Reading\, a non-profit children’s literac
 y initiative sponsored by Detroit Mercy\, Department of English\, whose mi
 ssion is to expand access to high-quality children’s books and support f
 amilies in reading with their children. Celebrating its 10th anniversary\,
  RX for Reading has distributed over 2\,000 children’s books a month sin
 ce 2014 with the help of its community partners and is committed to raisin
 g the next generation of readers and leaders in our community. \n\nSo ple
 ase stop by the shop and work on that Christmas gift checklist while suppo
 rting a good cause!
LOCATION:McNichols Campus Library\, 4001 W. McNichols Road\, Detroit\, Mich
 igan\, 48221\, United States
X-APPLE-STRUCTURED-LOCATION;VALUE=URI;X-ADDRESS=4001 W. McNichols Road\, De
 troit\, Michigan\, 48221\, United States;X-APPLE-RADIUS=100;X-TITLE=McNich
 ols Campus Library:geo:0,0
END:VEVENT
BEGIN:VTIMEZONE
TZID:America/Detroit
X-LIC-LOCATION:America/Detroit
BEGIN:STANDARD
DTSTART:20241103T010000
TZOFFSETFROM:-0400
TZOFFSETTO:-0500
TZNAME:EST
END:STANDARD
END:VTIMEZONE
END:VCALENDAR