BEGIN:VCALENDAR
VERSION:2.0
PRODID:-//wp-events-plugin.com//6.4.6.4//EN
TZID:America/Detroit
X-WR-TIMEZONE:America/Detroit
BEGIN:VEVENT
UID:0-320@sites.udmercy.edu
DTSTART;TZID=America/Detroit:20231128T100000
DTEND;TZID=America/Detroit:20231201T160000
DTSTAMP:20231121T041231Z
URL:https://sites.udmercy.edu/campusconnection/events/holiday-pop-up-shop/
SUMMARY:Holiday Pop-up Shop
DESCRIPTION:The McNichols Campus Library will hold its third annual Holiday
  Pop-Up Shop fundraiser Tuesday\, Nov. 28 through Friday\, Dec. 1 from
  10 a.m. to 4 p.m. each day in the lobby of the Library.\nMembers of the
  Detroit Mercy community are invited to stop by and shop for handmade Chri
 stmas cards\, ornaments and other small gifts\, such as handcrafted hats\,
  scarves\, pillows\, basked goods and more! Payments can be made via cash\
 , Cash App\, Venmo and Zelle.\nAll of the proceeds from the fundraiser wil
 l go to the Adia J. Palmer Memorial Scholarship\, which supports students 
 who have worked for the Varsity News or Detroit Mercy Libraries or volun
 teered for the Titan Equity Nourish Network (TENN) for at least a year (an
 d are continuing in these activities). Students pursuing Performing Arts o
 r Communication Studies may also be considered for the scholarship\, as we
 ll.\nThe library will accept donated crafts or "like new" Christmas decora
 tions and other items for the sale through Tuesday\, Nov. 21. For more inf
 ormation\, please contact Associate Dean for Technical Services\, Library 
 Systems and Archive Director Sara Armstrong at armstrsj1@udmercy.edu.
LOCATION:St. Ignatius Chapel\, 4001 W. McNichols Road\, Detroit\, MI\, Unit
 ed States
X-APPLE-STRUCTURED-LOCATION;VALUE=URI;X-ADDRESS=4001 W. McNichols Road\, De
 troit\, MI\, United States;X-APPLE-RADIUS=100;X-TITLE=St. Ignatius Chapel:
 geo:0,0
END:VEVENT
BEGIN:VTIMEZONE
TZID:America/Detroit
X-LIC-LOCATION:America/Detroit
BEGIN:STANDARD
DTSTART:20231105T010000
TZOFFSETFROM:-0400
TZOFFSETTO:-0500
TZNAME:EST
END:STANDARD
END:VTIMEZONE
END:VCALENDAR