BEGIN:VCALENDAR
VERSION:2.0
PRODID:-//wp-events-plugin.com//6.4.6.4//EN
TZID:America/Detroit
X-WR-TIMEZONE:America/Detroit
BEGIN:VEVENT
UID:0-317@sites.udmercy.edu
DTSTART;TZID=America/Detroit:20231208T170000
DTEND;TZID=America/Detroit:20231208T170000
DTSTAMP:20231121T040755Z
URL:https://sites.udmercy.edu/campusconnection/events/holy-day-of-obligati
 on-mass/
SUMMARY:Holy Day of Obligation Mass
DESCRIPTION:Two Masses will be held at noon and 5 p.m. Friday\, Dec. 8 on t
 he Holy Day of Obligation inside of the St. Ignatius Chapel\, located in t
 he Commerce and Finance Building.\n\nThe Solemnity of the Immaculate Conce
 ption is a time to celebrate the great joy of God's gift to humanity in Ma
 ry\, and to recognize with greater clarity\, the truth that each and every
  human being has been created by God to fulfill a particular mission that 
 he and only he can fulfill.
LOCATION:St. Ignatius Chapel\, 4001 W. McNichols Road\, Detroit\, MI\, Unit
 ed States
X-APPLE-STRUCTURED-LOCATION;VALUE=URI;X-ADDRESS=4001 W. McNichols Road\, De
 troit\, MI\, United States;X-APPLE-RADIUS=100;X-TITLE=St. Ignatius Chapel:
 geo:0,0
END:VEVENT
BEGIN:VTIMEZONE
TZID:America/Detroit
X-LIC-LOCATION:America/Detroit
BEGIN:STANDARD
DTSTART:20231105T010000
TZOFFSETFROM:-0400
TZOFFSETTO:-0500
TZNAME:EST
END:STANDARD
END:VTIMEZONE
END:VCALENDAR