BEGIN:VCALENDAR
VERSION:2.0
PRODID:-//wp-events-plugin.com//6.4.6.4//EN
TZID:America/Detroit
X-WR-TIMEZONE:America/Detroit
BEGIN:VEVENT
UID:0-612@sites.udmercy.edu
DTSTART;TZID=America/Detroit:20241112T160000
DTEND;TZID=America/Detroit:20241112T173000
DTSTAMP:20241105T184816Z
URL:https://sites.udmercy.edu/campusconnection/events/important-discussion
 -on-critical-race-theory/
SUMMARY:Important discussion on Critical Race Theory
DESCRIPTION:There has been a lot of banter lately around the topic of Criti
 cal Race Theory (CRT). To better understand what CRT is really all about a
 nd for the opportunity to have your questions answered\, please join us fo
 r this important discussion on Tuesday\, Nov. 12 from 4-5:30 p.m. in the L
 oranger Exhibition Space on the McNichols Campus.\n\nFrom this session you
  will:\n\n 	Understand that CRT is just one of many theoretical frameworks
 \n 	Be introduced to the major tenets of CRT and why they are relevant\n 	
 Gain insight into how CRT intersects with Catholic teachings and social ju
 stice\n\nSpeakers are Detroit Mercy alum Irena Glover and Jesse Cox from M
 adonna University.
LOCATION:Loranger Architecture Exhibition Space\, 4001 W. McNichols Road\, 
 Detroit\, Michigan\, 48221\, United States
X-APPLE-STRUCTURED-LOCATION;VALUE=URI;X-ADDRESS=4001 W. McNichols Road\, De
 troit\, Michigan\, 48221\, United States;X-APPLE-RADIUS=100;X-TITLE=Lorang
 er Architecture Exhibition Space:geo:0,0
END:VEVENT
BEGIN:VTIMEZONE
TZID:America/Detroit
X-LIC-LOCATION:America/Detroit
BEGIN:STANDARD
DTSTART:20241103T010000
TZOFFSETFROM:-0400
TZOFFSETTO:-0500
TZNAME:EST
END:STANDARD
END:VTIMEZONE
END:VCALENDAR