BEGIN:VCALENDAR
VERSION:2.0
PRODID:-//wp-events-plugin.com//6.4.6.4//EN
TZID:America/Detroit
X-WR-TIMEZONE:America/Detroit
BEGIN:VEVENT
UID:0-326@sites.udmercy.edu
DTSTART;TZID=America/Detroit:20231215T110000
DTEND;TZID=America/Detroit:20231215T110000
DTSTAMP:20231214T212147Z
URL:https://sites.udmercy.edu/campusconnection/events/improv-showcase/
SUMMARY:Improv showcase
DESCRIPTION:Join Detroit Mercy’s improvisation class Friday\, Dec. 15 at
  11 a.m. as they show off techniques learned in class in this spontaneous
 \, one-show-only performance!\n\nThe event will take place in the College 
 of Health Professions\, Room 124.\n\nWith a combination of sketch\, comedy
  and improvised scenes and games\, you never know what’s coming next… 
 and most of the time\, neither do the performers!\n\nWhether you’re a fa
 n of comedy\, theatre or just looking for a good time\, our improv showcas
 e is the perfect choice.
LOCATION:College of Health Professions Building\, Room 124\, 4001 W. McNich
 ols Road\, Detroit\, Michigan\, 48221\, United States
X-APPLE-STRUCTURED-LOCATION;VALUE=URI;X-ADDRESS=4001 W. McNichols Road\, De
 troit\, Michigan\, 48221\, United States;X-APPLE-RADIUS=100;X-TITLE=Colleg
 e of Health Professions Building\, Room 124:geo:0,0
END:VEVENT
BEGIN:VTIMEZONE
TZID:America/Detroit
X-LIC-LOCATION:America/Detroit
BEGIN:STANDARD
DTSTART:20231105T010000
TZOFFSETFROM:-0400
TZOFFSETTO:-0500
TZNAME:EST
END:STANDARD
END:VTIMEZONE
END:VCALENDAR