BEGIN:VCALENDAR
VERSION:2.0
PRODID:-//wp-events-plugin.com//6.4.6.4//EN
TZID:America/Detroit
X-WR-TIMEZONE:America/Detroit
BEGIN:VEVENT
UID:0-680@sites.udmercy.edu
DTSTART;TZID=America/Detroit:20250206T171500
DTEND;TZID=America/Detroit:20250206T183000
DTSTAMP:20250113T213937Z
URL:https://sites.udmercy.edu/campusconnection/events/industrial-organizat
 ional-psychology-program-open-house-and-alumni-panel-2/
SUMMARY:I/O Psychology program open house and alumni panel
DESCRIPTION:Detroit Mercy's Psychology Department is excited to invite you 
 to an Open House &amp\; Alumni Panel for our Master of Arts in Industrial/
 Organizational (I/O) Psychology program! This event is your chance to expl
 ore how our program prepares students for careers in human resources\, org
 anizational culture\, leadership development and more.\n\nThree dates are 
 being offered\, Jan. 30\, Feb. 6 and Feb. 20\, and the event will take pla
 ce in the Commerce and Finance Building\, Room 208 from 5:15-6:30 p.m.\n\n
 Why Attend?\n\n 	Learn about our flexible 33-credit accelerated program de
 signed for working professionals\n 	Discover opportunities like 250-hour i
 nternships and Community Engaged Learning\n 	Hear from successful alumni a
 bout their career journeys and program experiences\n 	Network with faculty
 \, current students and fellow attendees\n\nFor more information\, please 
 contact Program Director Kathleen Zimmerman-Oster at zimmerka@udmercy.edu 
 or (586)-873-1743.\n\nJoin us to take the first step in advancing your car
 eer in I/O Psychology!
LOCATION:Commerce and Finance Building\, Room 208\, 4001 W. McNichols Road\
 , Detroit\, MI\, 48221\, United States
X-APPLE-STRUCTURED-LOCATION;VALUE=URI;X-ADDRESS=4001 W. McNichols Road\, De
 troit\, MI\, 48221\, United States;X-APPLE-RADIUS=100;X-TITLE=Commerce and
  Finance Building\, Room 208:geo:0,0
END:VEVENT
BEGIN:VTIMEZONE
TZID:America/Detroit
X-LIC-LOCATION:America/Detroit
BEGIN:STANDARD
DTSTART:20241103T010000
TZOFFSETFROM:-0400
TZOFFSETTO:-0500
TZNAME:EST
END:STANDARD
END:VTIMEZONE
END:VCALENDAR