BEGIN:VCALENDAR
VERSION:2.0
PRODID:-//wp-events-plugin.com//6.4.6.4//EN
TZID:America/Detroit
X-WR-TIMEZONE:America/Detroit
BEGIN:VEVENT
UID:0-124@sites.udmercy.edu
DTSTART;TZID=America/Detroit:20221114T000000
DTEND;TZID=America/Detroit:20221117T000000
DTSTAMP:20221107T195229Z
URL:https://sites.udmercy.edu/campusconnection/events/international-educat
 ion-week/
SUMMARY:International Education Week
DESCRIPTION:Detroit Mercy is celebrating International Education Week by ho
 sting several virtual and in-person events from Monday through Thursday\, 
 Nov. 14-17\, all on the McNichols Campus.\n\nSome of the events include an
  international student panel\, study abroad info session\, Fulbright Engli
 sh Teaching Assistant program panel and a gratitude dinner. Here's the ful
 l list of events:\n\n 	Monday\, Nov. 14 — International Student Panel (1
 2-1 p.m.): A small panel will share their experiences and perspectives as 
 international students. Open to students\, faculty and staff. RSVP for eve
 nt.\n 	Tuesday\, Nov. 15 — Study Abroad Info Session (1-2 p.m.): Learn a
 bout the benefits and opportunities of studying abroad. Open to students. 
 RSVP for event.\n 	Wednesday\, Nov. 16 — Peace Corps Info Session (1-2 p
 .m.\, Commerce &amp\; Finance Building\, Room 234): Our guest\, Emily Nguy
 en\, will share her experience as an Environment Volunteer in Guinea and e
 xplain how you can apply to the Peace Corps. Open to students\, faculty an
 d staff\, both in-person and virtually. RSVP for virtual option.\n 	Wednes
 day\, Nov. 16 — CLASA: UCA Martyrs and Joe Mulligan (4 p.m.): Commemorat
 ion on the anniversary of the UCA Martyrs of El Salvador and talks by Joe 
 Mulligan\, S.J.\, Bill O'Brien and Mary Anne Perrone. More at udmercy.edu/
 clasa.\n 	Thursday\, Nov. 17 — Fulbright Opportunities (12:45-1:45 p.m.)
 : Learn about the Fulbright English Teaching Assistant Program\, including
  about global opportunities to travel and assist an English teacher abroad
  through this session. Hear firsthand from a Fulbright teaching assistant 
 in Brazil about her experiences\, how to apply and more. Open to students\
 , faculty and staff. RSVP for event.\n 	Thursday\, Nov. 17 — Gratitude D
 inner (3-5 p.m.\, Fountain Lounge/Student Union): Join us for a traditiona
 l Thanksgiving meal with your fellow Detroit Mercy students in the Fountai
 n Lounge of the Student Union.\n\nInternational Education Week runs from N
 ov. 14-18.\n\nFor more information or with questions\, please contact Detr
 oit Mercy's International Services Office at iso@udmercy.edu.\nLearn more 
 about the impact of international education.
LOCATION:University of Detroit Mercy\, 4001 W. McNichols Road\, Detroit\, M
 ichigan\, 48221\, United States
X-APPLE-STRUCTURED-LOCATION;VALUE=URI;X-ADDRESS=4001 W. McNichols Road\, De
 troit\, Michigan\, 48221\, United States;X-APPLE-RADIUS=100;X-TITLE=Univer
 sity of Detroit Mercy:geo:0,0
END:VEVENT
BEGIN:VTIMEZONE
TZID:America/Detroit
X-LIC-LOCATION:America/Detroit
BEGIN:STANDARD
DTSTART:20221106T010000
TZOFFSETFROM:-0400
TZOFFSETTO:-0500
TZNAME:EST
END:STANDARD
END:VTIMEZONE
END:VCALENDAR