BEGIN:VCALENDAR
VERSION:2.0
PRODID:-//wp-events-plugin.com//6.4.6.4//EN
TZID:America/Detroit
X-WR-TIMEZONE:America/Detroit
BEGIN:VEVENT
UID:0-592@sites.udmercy.edu
DTSTART;TZID=America/Detroit:20241104T170000
DTEND;TZID=America/Detroit:20241104T203000
DTSTAMP:20241030T191442Z
URL:https://sites.udmercy.edu/campusconnection/events/its-time-for-brillia
 nt-colors-twinkling-lights-and-delicious-food-at-diwali-celebration/
SUMMARY:Diwali Celebration
DESCRIPTION:All are welcome to participate in a celebration of Diwali on Mo
 nday\, Nov. 4 in the Fountain Lounge of the Student Union sponsored by the
  Campus Activity Board\, International Services Office and University Mini
 stry in collaboration with the South Asian Student Association.\n\nDiwali\
 , also known as the Festival of Lights\, is India's biggest and most impor
 tant holiday of the year and is a time for religious rituals and sharing t
 raditional stories. Come learn about the importance of celebrating Diwali\
 , see performances from students and enjoy a meal with one another.\n\nSch
 edule of Events: \n\n 	5 p.m. – Event Kickoff: Music &amp\; snacks\, boo
 ths for Diya decoration\, and henna\n 	5:30-6:30 p.m. – Presentation and
  performances\n 	6:30-7:30 p.m. – Indian-style Diwali dinner\n 	7:30-8:3
 0 p.m. – Afterparty: Music\, dance and sparkles\n\nDon't miss this oppo
 rtunity to learn about lights and legends while enjoying time with friends
 !
LOCATION:Fountain Lounge\, Student Union\, 4001 W. McNichols Road\, Detroit
 \, Michigan\, 48221\, United States
X-APPLE-STRUCTURED-LOCATION;VALUE=URI;X-ADDRESS=4001 W. McNichols Road\, De
 troit\, Michigan\, 48221\, United States;X-APPLE-RADIUS=100;X-TITLE=Founta
 in Lounge\, Student Union:geo:0,0
END:VEVENT
BEGIN:VTIMEZONE
TZID:America/Detroit
X-LIC-LOCATION:America/Detroit
BEGIN:STANDARD
DTSTART:20241103T010000
TZOFFSETFROM:-0400
TZOFFSETTO:-0500
TZNAME:EST
END:STANDARD
END:VTIMEZONE
END:VCALENDAR