BEGIN:VCALENDAR
VERSION:2.0
PRODID:-//wp-events-plugin.com//6.4.6.4//EN
TZID:America/Detroit
X-WR-TIMEZONE:America/Detroit
BEGIN:VEVENT
UID:0-740@sites.udmercy.edu
DTSTART;TZID=America/Detroit:20250326T121500
DTEND;TZID=America/Detroit:20250326T121500
DTSTAMP:20250217T184904Z
URL:https://sites.udmercy.edu/campusconnection/events/jesuit-friends-and-a
 lumni-network-of-detroit-spring-luncheon/
SUMMARY:Jesuit Friends and Alumni Network of Detroit spring luncheon
DESCRIPTION:Join Jesuit Friends and Alumni Network (JFAN) Detroit for a spr
 ing luncheon on Wednesday\, March 26 in the Student Union Ballroom on the 
 McNichols Campus. Doors open at 11:30 a.m. for check-in and registration\,
  lunch begins at noon and program begins at 12:15 p.m. All are welcome.\n
 \nJames Boynton\, S.J.\, will speak on "What is a Jesuit Brother Anyway?" 
 Jesuit brothers have been a valuable part of the Society of Jesus since th
 e founding of the order\, but what does this look like today? Brother Boyn
 ton will share his insights into the role of Jesuit brothers in our Church
  today and his real-life experience at the University of Detroit Jesuit as
  a teacher and now as a president.\n\nBrother Boynton is the 30th Presiden
 t of the University of Detroit Jesuit High School and Academy. He devoted 
 many years of his ministry to missionary work in northern India\, Mexico a
 nd Haiti and with migrant workers in northern Michigan. He served in many 
 roles at Saint Ignatius High School in Cleveland before joining the Univer
 sity of Detroit Jesuit staff in 2006.\nRegister here!
LOCATION:Student Union Ballroom\, McNichols Campus\, 4001 W. McNichols\, De
 troit\, MI\, 48221\, United States
X-APPLE-STRUCTURED-LOCATION;VALUE=URI;X-ADDRESS=4001 W. McNichols\, Detroit
 \, MI\, 48221\, United States;X-APPLE-RADIUS=100;X-TITLE=Student Union Bal
 lroom\, McNichols Campus:geo:0,0
END:VEVENT
BEGIN:VTIMEZONE
TZID:America/Detroit
X-LIC-LOCATION:America/Detroit
BEGIN:DAYLIGHT
DTSTART:20250309T030000
TZOFFSETFROM:-0500
TZOFFSETTO:-0400
TZNAME:EDT
END:DAYLIGHT
END:VTIMEZONE
END:VCALENDAR