BEGIN:VCALENDAR
VERSION:2.0
PRODID:-//wp-events-plugin.com//6.4.6.4//EN
TZID:America/Detroit
X-WR-TIMEZONE:America/Detroit
BEGIN:VEVENT
UID:0-323@sites.udmercy.edu
DTSTART;TZID=America/Detroit:20231211T210000
DTEND;TZID=America/Detroit:20231211T210000
DTSTAMP:20231127T180539Z
URL:https://sites.udmercy.edu/campusconnection/events/late-night-munchies-
 3/
SUMMARY:Late Night Munchies
DESCRIPTION:Detroit Mercy’s annual Late Night Munchies event for students
  prior to the start of final week (Dec. 12-16) is set for 9 p.m. Monday\,
  Dec. 11 in the Titan Dining Room on the McNichols Campus.\n\nLate Night 
 Munchies will feature wings\, loaded fries\, soft pretzels\, hummus\, slid
 ers\, nachos\, vegan chicken fingers\, cotton candy and popcorn.\n\nFree e
 ntertainment includes two caricature artists\, a henna artist\, photo magn
 ets and a photo booth that is brought to you by Alliance Credit Union. The
 re is something for everyone\, bring a friend!
LOCATION:Titan Dining Room\, 4001 W. McNichols Road\, Detroit\, Michigan \,
  48221\, United States
X-APPLE-STRUCTURED-LOCATION;VALUE=URI;X-ADDRESS=4001 W. McNichols Road\, De
 troit\, Michigan \, 48221\, United States;X-APPLE-RADIUS=100;X-TITLE=Titan
  Dining Room:geo:0,0
END:VEVENT
BEGIN:VTIMEZONE
TZID:America/Detroit
X-LIC-LOCATION:America/Detroit
BEGIN:STANDARD
DTSTART:20231105T010000
TZOFFSETFROM:-0400
TZOFFSETTO:-0500
TZNAME:EST
END:STANDARD
END:VTIMEZONE
END:VCALENDAR