BEGIN:VCALENDAR
VERSION:2.0
PRODID:-//wp-events-plugin.com//6.4.6.4//EN
TZID:America/Detroit
X-WR-TIMEZONE:America/Detroit
BEGIN:VEVENT
UID:0-130@sites.udmercy.edu
DTSTART;TZID=America/Detroit:20221212T210000
DTEND;TZID=America/Detroit:20221212T210000
DTSTAMP:20221118T215728Z
URL:https://sites.udmercy.edu/campusconnection/events/late-night-munchies/
SUMMARY:Late Night Munchies
DESCRIPTION:Detroit Mercy's annual Late Night Munchies event for students p
 rior to the start of finals week (Dec. 13-17) is set for Monday\, Dec. 12 
 at 9 p.m. in the Titan Dining Room on the McNichols Campus.\n\nLate Night 
 Munchies will feature boneless wings\, avocado toast bar with hummus\, mac
  and cheese bar\, as well as ice cream.
LOCATION:Titan Dining Room\, 4001 W. McNichols Road\, Detroit\, Michigan \,
  48221\, United States
X-APPLE-STRUCTURED-LOCATION;VALUE=URI;X-ADDRESS=4001 W. McNichols Road\, De
 troit\, Michigan \, 48221\, United States;X-APPLE-RADIUS=100;X-TITLE=Titan
  Dining Room:geo:0,0
END:VEVENT
BEGIN:VTIMEZONE
TZID:America/Detroit
X-LIC-LOCATION:America/Detroit
BEGIN:STANDARD
DTSTART:20221106T010000
TZOFFSETFROM:-0400
TZOFFSETTO:-0500
TZNAME:EST
END:STANDARD
END:VTIMEZONE
END:VCALENDAR