BEGIN:VCALENDAR
VERSION:2.0
PRODID:-//wp-events-plugin.com//6.4.6.4//EN
TZID:America/Detroit
X-WR-TIMEZONE:America/Detroit
BEGIN:VEVENT
UID:0-129@sites.udmercy.edu
DTSTART;TZID=America/Detroit:20221205T100000
DTEND;TZID=America/Detroit:20221209T150000
DTSTAMP:20221118T165336Z
URL:https://sites.udmercy.edu/campusconnection/events/librarys-holiday-pop
 -up-shop/
SUMMARY:Library's Holiday Pop-up Shop
DESCRIPTION:The McNichols Campus Library is set to hold its second annual H
 oliday Pop-up Shop during the holiday season. The shop will be open in the
  lobby of the library\, Monday through Friday\, Dec. 5-9\, from 10 a.m. t
 o 3 p.m. each day.\n\nShop for handmade Christmas cards\, ornaments\, pho
 to albums\, small gifts\, scarves\, dog and cat treats\, chocolates and mo
 re\, all while supporting a good cause.\n\nALL proceeds from the shop wil
 l go to support The Hive\, Detroit Mercy’s student-led organization who
 se goals include providing students with needed resources\, fostering stud
 ent leadership and unity\, and increasing student diversity and retention.
  The Hive currently manages a student food pantry in Reno Hall\, Room 41.\
 n\nAdditionally\, members of the Detroit Mercy community are welcome to do
 nate crafts and “like new” Christmas decorations and other items to th
 e sale. All donated items should be dropped off at the Library’s first-f
 loor check-out desk no later than Monday\, Nov. 28\, and should be tagged
  with a name and contact information. Canned items and cash donations will
  also be accepted.\n\nFor more information\, please contact Associate Dean
  for Technical Services Sara Armstrong at armstrsj1@udmercy.edu.
LOCATION:McNichols Campus Library\, 4001 W. McNichols Road\, Detroit\, Mich
 igan\, 48221\, United States
X-APPLE-STRUCTURED-LOCATION;VALUE=URI;X-ADDRESS=4001 W. McNichols Road\, De
 troit\, Michigan\, 48221\, United States;X-APPLE-RADIUS=100;X-TITLE=McNich
 ols Campus Library:geo:0,0
END:VEVENT
BEGIN:VTIMEZONE
TZID:America/Detroit
X-LIC-LOCATION:America/Detroit
BEGIN:STANDARD
DTSTART:20221106T010000
TZOFFSETFROM:-0400
TZOFFSETTO:-0500
TZNAME:EST
END:STANDARD
END:VTIMEZONE
END:VCALENDAR