BEGIN:VCALENDAR
VERSION:2.0
PRODID:-//wp-events-plugin.com//6.4.6.4//EN
TZID:America/Detroit
X-WR-TIMEZONE:America/Detroit
BEGIN:VEVENT
UID:0-303@sites.udmercy.edu
DTSTART;TZID=America/Detroit:20231115T120000
DTEND;TZID=America/Detroit:20231115T120000
DTSTAMP:20231108T163043Z
URL:https://sites.udmercy.edu/campusconnection/events/liturgy-commemorates
 -jesuit-martyrs/
SUMMARY:Liturgy commemorates Jesuit martyrs
DESCRIPTION:The Office of Mission Integration will be celebrating their nex
 t monthly liturgy at noon Wednesday\, Nov. 15 in the St. Ignatius Chapel
  inside the Commerce and Finance Building on the McNichols Campus.\n\nThis
  celebration will be an occasion to commemorate the Jesuit martyrs of El S
 alvador and their housekeeper and her daughter\, who were killed on Nov. 1
 6\, 1989.\n\nFr. Patrick Kelly\, SJ will celebrate the liturgy and preach 
 on how the lives and witness of the Salvadoran Jesuits is related to our e
 ducational mission at Detroit Mercy.\n\nThere will be a pizza lunch and ti
 me to visit with colleagues afterwards in Commerce and Finance\, Room 238.
 \n\nAt each monthly liturgy\, colleagues will have an opportunity to refle
 ct on a theme central to the University’s Mercy-Jesuit educational missi
 on. Persons of all religious backgrounds or who are not affiliated with a 
 religious tradition are encouraged to attend.
LOCATION:St. Ignatius Chapel\, 4001 W. McNichols Road\, Detroit\, MI\, Unit
 ed States
X-APPLE-STRUCTURED-LOCATION;VALUE=URI;X-ADDRESS=4001 W. McNichols Road\, De
 troit\, MI\, United States;X-APPLE-RADIUS=100;X-TITLE=St. Ignatius Chapel:
 geo:0,0
END:VEVENT
BEGIN:VTIMEZONE
TZID:America/Detroit
X-LIC-LOCATION:America/Detroit
BEGIN:STANDARD
DTSTART:20231105T010000
TZOFFSETFROM:-0400
TZOFFSETTO:-0500
TZNAME:EST
END:STANDARD
END:VTIMEZONE
END:VCALENDAR