BEGIN:VCALENDAR
VERSION:2.0
PRODID:-//wp-events-plugin.com//6.4.6.4//EN
TZID:America/Detroit
X-WR-TIMEZONE:America/Detroit
BEGIN:VEVENT
UID:0-462@sites.udmercy.edu
DTSTART;TZID=America/Detroit:20240903T124500
DTEND;TZID=America/Detroit:20240903T124500
DTSTAMP:20240826T200656Z
URL:https://sites.udmercy.edu/campusconnection/events/mass-for-feast-day-o
 f-st-phoebe/
SUMMARY:Mass for feast day of St. Phoebe
DESCRIPTION:University Ministry is hosting a special Mass to celebrate the 
 feast day of St. Phoebe. Gather with us for Mass and fellowship with snack
 s following the service on Tuesday\, Sept. 3 at 12:45 p.m. in the St. Igna
 tius Chapel.\n\nAll are welcome!\n\nIn the Letter to the Romans\, St. Paul
  commends Phoebe to the church in Rome\, introduces her as a deacon (diako
 nos) of the church at Cenchreae\, and asks that they “receive her in the
  Lord” (Romans 16:1-2a).\n\nJoin us as we come together with Catholic co
 mmunities in celebrating St. Phoebe during the month of September while ho
 noring women's gifts to the Church in the lead-up to the General Assembly 
 of the Synod.
LOCATION:St. Ignatius Chapel\, 4001 W. McNichols Road\, Detroit\, MI\, Unit
 ed States
X-APPLE-STRUCTURED-LOCATION;VALUE=URI;X-ADDRESS=4001 W. McNichols Road\, De
 troit\, MI\, United States;X-APPLE-RADIUS=100;X-TITLE=St. Ignatius Chapel:
 geo:0,0
END:VEVENT
BEGIN:VTIMEZONE
TZID:America/Detroit
X-LIC-LOCATION:America/Detroit
BEGIN:DAYLIGHT
DTSTART:20240310T030000
TZOFFSETFROM:-0500
TZOFFSETTO:-0400
TZNAME:EDT
END:DAYLIGHT
END:VTIMEZONE
END:VCALENDAR