BEGIN:VCALENDAR
VERSION:2.0
PRODID:-//wp-events-plugin.com//6.4.6.4//EN
TZID:America/Detroit
X-WR-TIMEZONE:America/Detroit
BEGIN:VEVENT
UID:0-133@sites.udmercy.edu
DTSTART;TZID=America/Detroit:20221208T124500
DTEND;TZID=America/Detroit:20221208T124500
DTSTAMP:20221129T215456Z
URL:https://sites.udmercy.edu/campusconnection/events/mass-for-the-feast-o
 f-the-immaculate-conception/
SUMMARY:Mass for the Feast of the Immaculate Conception
DESCRIPTION:Join the University community for Mass on the Solemnity of the 
 Immaculate Conception at 12:45 p.m. Thursday\, Dec. 8 in the St. Ignatius 
 Chapel\, located on Detroit Mercy's McNichols Campus.\n\nThis is a Holy Da
 y of Obligation. According to the teaching of the church\, the Immaculate 
 Conception of Mary means that Mary was conceived without sin\, and was pre
 served from sin throughout her life.
LOCATION:St. Ignatius Chapel\, 4001 W. McNichols Road\, Detroit\, MI\, Unit
 ed States
X-APPLE-STRUCTURED-LOCATION;VALUE=URI;X-ADDRESS=4001 W. McNichols Road\, De
 troit\, MI\, United States;X-APPLE-RADIUS=100;X-TITLE=St. Ignatius Chapel:
 geo:0,0
END:VEVENT
BEGIN:VTIMEZONE
TZID:America/Detroit
X-LIC-LOCATION:America/Detroit
BEGIN:STANDARD
DTSTART:20221106T010000
TZOFFSETFROM:-0400
TZOFFSETTO:-0500
TZNAME:EST
END:STANDARD
END:VTIMEZONE
END:VCALENDAR