BEGIN:VCALENDAR
VERSION:2.0
PRODID:-//wp-events-plugin.com//6.4.6.4//EN
TZID:America/Detroit
X-WR-TIMEZONE:America/Detroit
BEGIN:VEVENT
UID:0-26@sites.udmercy.edu
DTSTART;TZID=America/Detroit:20220828T190000
DTEND;TZID=America/Detroit:20220828T190000
DTSTAMP:20220824T185450Z
URL:https://sites.udmercy.edu/campusconnection/events/mass-in-the-grass/
SUMMARY:Mass in the Grass
DESCRIPTION:University Ministry is hosting Mass on the Grass Sunday\, Aug
 . 28 at 7 p.m. on the McNichols Campus.\n\nAll students are welcome\, wit
 h a chance to meet new people and join for Mass directly outside of the mi
 nistry office (in the Student Union plaza area\, facing Holden Hall).\n\nI
 ce cream and other snacks are provided after mass in the lower level lobby
  of the Student Union.\n\nAll are welcome!
LOCATION:Student Union\, 4001 W. McNichols Road\, Detroit\, Michigan\, 4822
 1\, United States
X-APPLE-STRUCTURED-LOCATION;VALUE=URI;X-ADDRESS=4001 W. McNichols Road\, De
 troit\, Michigan\, 48221\, United States;X-APPLE-RADIUS=100;X-TITLE=Studen
 t Union:geo:0,0
END:VEVENT
BEGIN:VTIMEZONE
TZID:America/Detroit
X-LIC-LOCATION:America/Detroit
BEGIN:DAYLIGHT
DTSTART:20220313T030000
TZOFFSETFROM:-0500
TZOFFSETTO:-0400
TZNAME:EDT
END:DAYLIGHT
END:VTIMEZONE
END:VCALENDAR