BEGIN:VCALENDAR
VERSION:2.0
PRODID:-//wp-events-plugin.com//6.4.6.4//EN
TZID:America/Detroit
X-WR-TIMEZONE:America/Detroit
BEGIN:VEVENT
UID:0-593@sites.udmercy.edu
DTSTART;TZID=America/Detroit:20241114T143000
DTEND;TZID=America/Detroit:20241114T143000
DTSTAMP:20241101T184027Z
URL:https://sites.udmercy.edu/campusconnection/events/mcshane-maker-space-
 collaboratory-opening-and-dedication/
SUMMARY:McShane Makerspace &amp\; Collaboratory opening and dedication
DESCRIPTION:The College of Engineering &amp\; Science is excited to formall
 y recognize the opening of the newly renovated Engineering Annex as the Mc
 Shane Makerspace &amp\; Collaboratory\, and all are welcome to attend the 
 dedication and blessing of the space on Nov. 14 at 2:30 p.m. in the Engine
 ering High Bay. This was made possible by Steve McShane '66 and Kathy McSh
 ane and other committed sponsors.\n\nRefreshments and appetizers will be s
 erved. Please RSVP by Nov. 11.\nRSVP Here!
LOCATION:Engineering Highbay\, Engineering Building\, 4001 W. McNichols Roa
 d\, Detroit\, MI\, 48221\, United States
X-APPLE-STRUCTURED-LOCATION;VALUE=URI;X-ADDRESS=4001 W. McNichols Road\, De
 troit\, MI\, 48221\, United States;X-APPLE-RADIUS=100;X-TITLE=Engineering 
 Highbay\, Engineering Building:geo:0,0
END:VEVENT
BEGIN:VTIMEZONE
TZID:America/Detroit
X-LIC-LOCATION:America/Detroit
BEGIN:STANDARD
DTSTART:20241103T010000
TZOFFSETFROM:-0400
TZOFFSETTO:-0500
TZNAME:EST
END:STANDARD
END:VTIMEZONE
END:VCALENDAR