BEGIN:VCALENDAR
VERSION:2.0
PRODID:-//wp-events-plugin.com//6.4.6.4//EN
TZID:America/Detroit
X-WR-TIMEZONE:America/Detroit
BEGIN:VEVENT
UID:0-310@sites.udmercy.edu
DTSTART;TZID=America/Detroit:20231121T190000
DTEND;TZID=America/Detroit:20231121T190000
DTSTAMP:20231114T180619Z
URL:https://sites.udmercy.edu/campusconnection/events/mens-basketball-vs-e
 astern-michigan/
SUMMARY:Men's basketball home opener vs. Eastern Michigan
DESCRIPTION:Head to Calihan Hall 7 p.m. Tuesday\, Nov. 21 for men's basketb
 all's home opener against Eastern Michigan.\n\nAnyone who brings mittens t
 o the contest will gain free admission and also get to toss them onto the 
 court at halftime as part of a mitten toss\, with the collection being don
 ated to Mittens for Detroit!\n\nAll students get into home games and Secti
 on 313 for free with their Student ID.\nFull Titan men's basketball schedu
 le.
LOCATION:Calihan Hall\, 4001 W. McNichols Road\, Detroit\, Michigan\, 48221
 \, United States
X-APPLE-STRUCTURED-LOCATION;VALUE=URI;X-ADDRESS=4001 W. McNichols Road\, De
 troit\, Michigan\, 48221\, United States;X-APPLE-RADIUS=100;X-TITLE=Caliha
 n Hall:geo:0,0
END:VEVENT
BEGIN:VTIMEZONE
TZID:America/Detroit
X-LIC-LOCATION:America/Detroit
BEGIN:STANDARD
DTSTART:20231105T010000
TZOFFSETFROM:-0400
TZOFFSETTO:-0500
TZNAME:EST
END:STANDARD
END:VTIMEZONE
END:VCALENDAR