BEGIN:VCALENDAR
VERSION:2.0
PRODID:-//wp-events-plugin.com//6.4.6.4//EN
TZID:America/Detroit
X-WR-TIMEZONE:America/Detroit
BEGIN:VEVENT
UID:0-294@sites.udmercy.edu
DTSTART;TZID=America/Detroit:20231102T190000
DTEND;TZID=America/Detroit:20231102T190000
DTSTAMP:20231019T125234Z
URL:https://sites.udmercy.edu/campusconnection/events/mens-basketball-vs-w
 ayne-state-dps-benefit-game/
SUMMARY:Men's Basketball vs. Wayne State\, DPS Benefit Game
DESCRIPTION:The University of Detroit Mercy Department of Athletics is prou
 d to announce that the 5th Annual City College Series DPS Benefit Game i
 s set for Thursday\, Nov. 2 as the men’s basketball team host city-riv
 al Wayne State in an exhibition contest.\n\nThe game is scheduled to tip a
 t 7 p.m.\, inside historic Calihan Hall. Tickets to the game will be just 
 $2 (cash only on game day\, no advance sales)\, and all proceeds will go t
 o Detroit Public Schools\, K-5\, with Michigan First Credit Union matchin
 g the proceeds.\n\nThis is the fifth time Detroit Mercy will play a game t
 o give back to DPS. In 2022\, Titan Athletics solicited donations online a
 nd in-person at all men’s and women’s home basketball games\, which to
 taled $2\,500\, and the matching contribution gave the DPS Foundation $5\,
 000.\n\nIn the history of the event\, Titan Athletics and Michigan First h
 ave helped raise nearly $30\,000 for DPS K-5 between ticket sales and matc
 hing contributions from the Credit Union.\n\nTo learn more about the Detro
 it Public Schools Foundation\, please visit dpsfdn.org.
LOCATION:Calihan Hall\, 4001 W. McNichols Road\, Detroit\, Michigan\, 48221
 \, United States
X-APPLE-STRUCTURED-LOCATION;VALUE=URI;X-ADDRESS=4001 W. McNichols Road\, De
 troit\, Michigan\, 48221\, United States;X-APPLE-RADIUS=100;X-TITLE=Caliha
 n Hall:geo:0,0
END:VEVENT
BEGIN:VTIMEZONE
TZID:America/Detroit
X-LIC-LOCATION:America/Detroit
BEGIN:DAYLIGHT
DTSTART:20230312T030000
TZOFFSETFROM:-0500
TZOFFSETTO:-0400
TZNAME:EDT
END:DAYLIGHT
END:VTIMEZONE
END:VCALENDAR