BEGIN:VCALENDAR
VERSION:2.0
PRODID:-//wp-events-plugin.com//6.4.6.4//EN
TZID:America/Detroit
X-WR-TIMEZONE:America/Detroit
BEGIN:VEVENT
UID:0-470@sites.udmercy.edu
DTSTART;TZID=America/Detroit:20240913T200000
DTEND;TZID=America/Detroit:20240913T234500
DTSTAMP:20240829T125133Z
URL:https://sites.udmercy.edu/campusconnection/events/midnight-bike-ride/
SUMMARY:Midnight bike ride
DESCRIPTION:Have you ever wanted to bike the streets of Detroit after dark?
 \n\nSign up for the annual Midnight Bike Ride on Friday\, Sept. 13. On-sit
 e registration begins at 7 p.m. in the Student Union\, and the ride begins
  promptly at 8 p.m. from the McNichols Campus. Be a part of this Universit
 y tradition.\n\nThe bike tour includes rest stops to point out places of i
 nterest and a hot dog break at Detroit's famous Lafayette Coney Island. Pa
 rticipants may purchase items at the stop at their own expense. After the 
 20-mile trip\, the cyclists should return to campus around 12 a.m. on Satu
 rday.\n\nHere’s the breakdown:\n\n 	Students – If you have your own bi
 ke\, the ride is free! (T-shirts are $5)\n 	Bike rental for students – $
 5 (limited availability)\n 	Non-Detroit Mercy students – $25 (includes a
  T-shirt)\n\nRegister online today!
LOCATION:University of Detroit Mercy\, 4001 W. McNichols Road\, Detroit\, M
 ichigan\, 48221\, United States
X-APPLE-STRUCTURED-LOCATION;VALUE=URI;X-ADDRESS=4001 W. McNichols Road\, De
 troit\, Michigan\, 48221\, United States;X-APPLE-RADIUS=100;X-TITLE=Univer
 sity of Detroit Mercy:geo:0,0
END:VEVENT
BEGIN:VTIMEZONE
TZID:America/Detroit
X-LIC-LOCATION:America/Detroit
BEGIN:DAYLIGHT
DTSTART:20240310T030000
TZOFFSETFROM:-0500
TZOFFSETTO:-0400
TZNAME:EDT
END:DAYLIGHT
END:VTIMEZONE
END:VCALENDAR