BEGIN:VCALENDAR
VERSION:2.0
PRODID:-//wp-events-plugin.com//6.4.6.4//EN
TZID:America/Detroit
X-WR-TIMEZONE:America/Detroit
BEGIN:VEVENT
UID:0-308@sites.udmercy.edu
DTSTART;TZID=America/Detroit:20231116T124500
DTEND;TZID=America/Detroit:20231116T124500
DTSTAMP:20231108T211910Z
URL:https://sites.udmercy.edu/campusconnection/events/money-management-sem
 inar-3/
SUMMARY:Money Management Seminar
DESCRIPTION:The Center for Career and Professional Development will host a 
 Money Management Seminar\, facilitated by Alliance Catholic Credit Union\,
  12:45 p.m. Thursday\, Nov. 16.\n\nThe seminar will be held in Room 201 of
  the Student Union. All Detroit Mercy students and staff are invited to at
 tend. Free boxed lunches and other giveaways are available for those who p
 re-register.\n\nAttending Money Management seminars can be a good first st
 ep in the wise handling of person wealth. Some of the topics that are freq
 uently covered at these seminars may include investment strategies\, consc
 ientious budgeting practices\, creating a savings plan and any number of o
 ther financial concerns. Issues such as credit card fraud and identity the
 ft may also be covered.\n\nThe event is being sponsored by Alliance Cathol
 ic Credit Union.\n\nDetroit Mercy faculty and staff can register by sendin
 g an email to careerlink@udmercy.edu. Students can register for the semina
 r through Handshake.\nRegister with Detroit Mercy's Handshake.
LOCATION:Student Union\, Room 201\, 4001 W. McNichols Road\, Detroit\, Mich
 igan\, 48221\, United States
X-APPLE-STRUCTURED-LOCATION;VALUE=URI;X-ADDRESS=4001 W. McNichols Road\, De
 troit\, Michigan\, 48221\, United States;X-APPLE-RADIUS=100;X-TITLE=Studen
 t Union\, Room 201:geo:0,0
END:VEVENT
BEGIN:VTIMEZONE
TZID:America/Detroit
X-LIC-LOCATION:America/Detroit
BEGIN:STANDARD
DTSTART:20231105T010000
TZOFFSETFROM:-0400
TZOFFSETTO:-0500
TZNAME:EST
END:STANDARD
END:VTIMEZONE
END:VCALENDAR