BEGIN:VCALENDAR
VERSION:2.0
PRODID:-//wp-events-plugin.com//6.4.6.4//EN
TZID:America/Detroit
X-WR-TIMEZONE:America/Detroit
BEGIN:VEVENT
UID:0-132@sites.udmercy.edu
DTSTART;TZID=America/Detroit:20221201T124500
DTEND;TZID=America/Detroit:20221201T134500
DTSTAMP:20221128T203326Z
URL:https://sites.udmercy.edu/campusconnection/events/money-management-sem
 inar/
SUMMARY:Money Management seminar
DESCRIPTION:Detroit Mercy's Center for Career &amp\; Professional Developme
 nt (CCPD) is set to host a Money Management seminar for the Titan communit
 y on Thursday\, Dec. 1 from 12:45-1:45 p.m. \n\nThe seminar\, presented b
 y Alliance Catholic Credit Union\, will be held in Reno Hall\, Room 165. A
  boxed lunch will be provided.\n\nAttending Money Management seminars can 
 be a good first step in the wise handling of personal wealth.\n\nSome of t
 he topics that are frequently covered at these seminars may include invest
 ment strategies\, conscientious budgeting practices\, creating a savings p
 lan and other financial concerns. Issues such as credit card fraud and ide
 ntity theft may also be covered.\n\nDetroit Mercy employees please contact
  CCPD at careerlink@udmercy.edu to register. Students can RSVP by using th
 eir Handshake account.
LOCATION:Reno Hall\, Room 165\, 4001 W. McNichols Road\, Detroit\, Michigan
 \, 48221\, United States
X-APPLE-STRUCTURED-LOCATION;VALUE=URI;X-ADDRESS=4001 W. McNichols Road\, De
 troit\, Michigan\, 48221\, United States;X-APPLE-RADIUS=100;X-TITLE=Reno H
 all\, Room 165:geo:0,0
END:VEVENT
BEGIN:VTIMEZONE
TZID:America/Detroit
X-LIC-LOCATION:America/Detroit
BEGIN:STANDARD
DTSTART:20221106T010000
TZOFFSETFROM:-0400
TZOFFSETTO:-0500
TZNAME:EST
END:STANDARD
END:VTIMEZONE
END:VCALENDAR