BEGIN:VCALENDAR
VERSION:2.0
PRODID:-//wp-events-plugin.com//6.4.6.4//EN
TZID:America/Detroit
X-WR-TIMEZONE:America/Detroit
BEGIN:VEVENT
UID:0-600@sites.udmercy.edu
DTSTART;TZID=America/Detroit:20241107T124500
DTEND;TZID=America/Detroit:20241107T133000
DTSTAMP:20241104T173432Z
URL:https://sites.udmercy.edu/campusconnection/events/national-career-deve
 lopment-month-event-beyond-the-degree-criminal-justice/
SUMMARY:National Career Development month event\, Beyond the Degree - Crimi
 nal Justice
DESCRIPTION:Students are invited to join the Center for Career &amp\; Profe
 ssional Development (CCPD) and the National Career Development Association
  as we celebrate National Career Development month! This year's theme is C
 reating My Career Path: Embracing Change in My Journey. CCPD encourages st
 udents to explore their futures and embrace the changes that will come! Th
 ere will be several events offered throughout the month of November that w
 ill assist students in taking ownership of their career development\, set 
 career goals and learn about new opportunities.\n\nJoin us at one or more 
 of the following events to celebrate National Career Development month:\n\
 n 	Practice Interviews with Professional Recruiters\, Nov. 6 at 9 a.m. - 4
  p.m.\, Reno Hall 143\n 	Beyond the Degree - Criminal Justice\, Nov. 7 at 
 12:45 p.m. - 1:30 p.m.\, Commerce and Finance Building Room 209\n 	Job Sea
 rch Tips for International Students\, Nov. 13 at 1-2 p.m.\, Engineering Bu
 ilding 134\n 	Closing the Deal: Researching and Negotiating Salary &amp\; 
 Benefits\, Nov. 19\, Student Union 201\n 	Drop-in Career Boost\, Nov. 6\, 
 11 and 13 at 1-2 p.m.\, Reno Hall 143\n\nFor questions please contact care
 erlink@udmercy.edu or 313-993-1017\n\nStudents are encouraged to pre-regis
 ter through their Handshake accounts.\nREGISTER HERE!
LOCATION:Commerce &amp\; Finance Building\, Room 209\, 4001 W. McNichols Ro
 ad\, Detroit\, Michigan\, 48221\, United States
X-APPLE-STRUCTURED-LOCATION;VALUE=URI;X-ADDRESS=4001 W. McNichols Road\, De
 troit\, Michigan\, 48221\, United States;X-APPLE-RADIUS=100;X-TITLE=Commer
 ce & Finance Building\, Room 209:geo:0,0
END:VEVENT
BEGIN:VTIMEZONE
TZID:America/Detroit
X-LIC-LOCATION:America/Detroit
BEGIN:STANDARD
DTSTART:20241103T010000
TZOFFSETFROM:-0400
TZOFFSETTO:-0500
TZNAME:EST
END:STANDARD
END:VTIMEZONE
END:VCALENDAR