BEGIN:VCALENDAR
VERSION:2.0
PRODID:-//wp-events-plugin.com//6.4.6.4//EN
TZID:America/Detroit
X-WR-TIMEZONE:America/Detroit
BEGIN:VEVENT
UID:0-141@sites.udmercy.edu
DTSTART;TZID=America/Detroit:20230117T120000
DTEND;TZID=America/Detroit:20230117T160000
DTSTAMP:20230110T140125Z
URL:https://sites.udmercy.edu/campusconnection/events/national-day-of-heal
 ing-from-racism-student-dialogues/
SUMMARY:National Day of Healing from Racism\, Student Dialogues
DESCRIPTION:National Day of Healing from Racism is celebrated on the third 
 Tuesday of January. This day was established in 2017 to create space for i
 ndividuals to discuss ways in which racism has impacted their lives. On th
 is day\, we come together to recognize the perils of racism and how we can
  move forward as a people group.\n\nStudent dialogue times are: 12-1 p.m.\
 , Self-identified Black Students\; 1-2 p.m.\, Self-identified Latinx Stude
 nts\; 2-3 p.m.\, Self-identified Asian Pacific Islander Desi American Stud
 ents\; 3-4 p.m.\, Self-identified Middle Eastern\, North African and South
  Asian Students.
LOCATION:Bargman Room\, McNichols Campus Library\, 4001 W. McNichols Road\,
  Detroit\, Michigan\, 48221\, United States
X-APPLE-STRUCTURED-LOCATION;VALUE=URI;X-ADDRESS=4001 W. McNichols Road\, De
 troit\, Michigan\, 48221\, United States;X-APPLE-RADIUS=100;X-TITLE=Bargma
 n Room\, McNichols Campus Library:geo:0,0
END:VEVENT
BEGIN:VTIMEZONE
TZID:America/Detroit
X-LIC-LOCATION:America/Detroit
BEGIN:STANDARD
DTSTART:20221106T010000
TZOFFSETFROM:-0400
TZOFFSETTO:-0500
TZNAME:EST
END:STANDARD
END:VTIMEZONE
END:VCALENDAR