BEGIN:VCALENDAR
VERSION:2.0
PRODID:-//wp-events-plugin.com//6.4.6.4//EN
TZID:America/Detroit
X-WR-TIMEZONE:America/Detroit
BEGIN:VEVENT
UID:0-739@sites.udmercy.edu
DTSTART;TZID=America/Detroit:20250215T100000
DTEND;TZID=America/Detroit:20250215T130000
DTSTAMP:20250207T180003Z
URL:https://sites.udmercy.edu/campusconnection/events/national-girls-women
 -in-sports-day/
SUMMARY:National Girls &amp\; Women in Sports Day
DESCRIPTION:All are welcome for a day of fun and sports as Titan Athletics 
 celebrates National Girls &amp\; Women in Sports Day on Saturday\, Feb. 15
 !\n\nA FREE clinic for girls ages 6-12 includes skills instruction in vari
 ous sports\, a half-time performance\, and a post-game autograph session\,
  as well as a t-shirt and swag bag. A women's basketball game follows when
  the Titans take on Green Bay inside of Calihan Hall.\n\nThe event starts 
 at 10 a.m. Feb. 15 inside of Calihan Hall on the McNichols Campus. It'll w
 rap up in time for the 1 p.m. basketball contest.\nSign-up here!
LOCATION:Calihan Hall\, 4001 W. McNichols Road\, Detroit\, Michigan\, 48221
 \, United States
X-APPLE-STRUCTURED-LOCATION;VALUE=URI;X-ADDRESS=4001 W. McNichols Road\, De
 troit\, Michigan\, 48221\, United States;X-APPLE-RADIUS=100;X-TITLE=Caliha
 n Hall:geo:0,0
END:VEVENT
BEGIN:VTIMEZONE
TZID:America/Detroit
X-LIC-LOCATION:America/Detroit
BEGIN:STANDARD
DTSTART:20241103T010000
TZOFFSETFROM:-0400
TZOFFSETTO:-0500
TZNAME:EST
END:STANDARD
END:VTIMEZONE
END:VCALENDAR