BEGIN:VCALENDAR
VERSION:2.0
PRODID:-//wp-events-plugin.com//6.4.6.4//EN
TZID:America/Detroit
X-WR-TIMEZONE:America/Detroit
BEGIN:VEVENT
UID:0-465@sites.udmercy.edu
DTSTART;TZID=America/Detroit;VALUE=DATE:20240922
DTEND;TZID=America/Detroit;VALUE=DATE:20240924
DTSTAMP:20240827T153019Z
URL:https://sites.udmercy.edu/campusconnection/events/new-beginnings-retre
 at-3/
SUMMARY:New Beginnings Retreat
DESCRIPTION:The New Beginnings Retreat\, set for Saturday\, Sept. 22\, is 
 an opportunity to meet new people\, forge relationships and reflect on you
 r early experiences of college. Join University Ministry at Kensington M
 etropark in nearby Milford from Saturday through Sunday\, Sept. 23.\nDesi
 gned for first-year and transfer students\, the retreat is focused around 
 themes of transition\, you'll hear stories from upper-class students\, eng
 age with peers in small group discussions\, reflect on hopes and expectati
 ons\, and have plenty of time for rest and recreation.\nThe retreat is ref
 lective in nature\, but is not oriented towards any particular faith tradi
 tion. We hope that you join us!\nWith any questions\, please contact Unive
 rsity Ministry at ministry@udmercy.edu or 313-993-1560.\n\nMore info/Sig
 n-up!
LOCATION:Kensington Metropark\, 4570 Huron River Pkwy\, Milford Charter Tow
 nship\, Michigan\, 48380\, United States
X-APPLE-STRUCTURED-LOCATION;VALUE=URI;X-ADDRESS=4570 Huron River Pkwy\, Mil
 ford Charter Township\, Michigan\, 48380\, United States;X-APPLE-RADIUS=10
 0;X-TITLE=Kensington Metropark:geo:0,0
END:VEVENT
BEGIN:VTIMEZONE
TZID:America/Detroit
X-LIC-LOCATION:America/Detroit
BEGIN:DAYLIGHT
DTSTART:20240310T030000
TZOFFSETFROM:-0500
TZOFFSETTO:-0400
TZNAME:EDT
END:DAYLIGHT
END:VTIMEZONE
END:VCALENDAR