BEGIN:VCALENDAR
VERSION:2.0
PRODID:-//wp-events-plugin.com//6.4.6.4//EN
TZID:America/Detroit
X-WR-TIMEZONE:America/Detroit
BEGIN:VEVENT
UID:0-125@sites.udmercy.edu
DTSTART;TZID=America/Detroit:20221116T120000
DTEND;TZID=America/Detroit:20221116T120000
DTSTAMP:20221107T200917Z
URL:https://sites.udmercy.edu/campusconnection/events/office-of-mission-in
 tegration-mass/
SUMMARY:Office of Mission Integration Mass
DESCRIPTION:The Office of Mission Integration will hold its next monthly li
 turgy on Wednesday\, Nov. 16 at noon in the St. Ignatius Chapel\, with Fr.
  Patrick Kelly\, SJ presiding and preaching.\n\nOn the anniversary of the 
 Jesuit martyrs of El Salvador\, their housekeeper and their daughter\, Kel
 ly will preach about how the lives and work of these Salvadoran Jesuits is
  relevant for our educational mission.\n\nThere will be a pizza lunch afte
 rwards in the Commerce &amp\; Finance Building\, Room 213.\n\nAt each mont
 hly liturgy\, colleagues will have the opportunity to reflect on a theme c
 entral to the University's Jesuit-Mercy educational mission.\n\nPersons of
  all religious backgrounds or who are not affiliated with a religious trad
 ition are encouraged to attend. Everyone is welcome!\n\nIf you will be att
 ending the lunch\, make sure to RSVP to fichtere@udmercy.edu with "OMI Lit
 urgy" in the subject line so they can plan appropriately.
LOCATION:Commerce &amp\; Finance Building\, Room 213\, 4001 W. McNichols Ro
 ad\, Detroit\, Michigan\, 48221\, United States
X-APPLE-STRUCTURED-LOCATION;VALUE=URI;X-ADDRESS=4001 W. McNichols Road\, De
 troit\, Michigan\, 48221\, United States;X-APPLE-RADIUS=100;X-TITLE=Commer
 ce & Finance Building\, Room 213:geo:0,0
END:VEVENT
BEGIN:VTIMEZONE
TZID:America/Detroit
X-LIC-LOCATION:America/Detroit
BEGIN:STANDARD
DTSTART:20221106T010000
TZOFFSETFROM:-0400
TZOFFSETTO:-0500
TZNAME:EST
END:STANDARD
END:VTIMEZONE
END:VCALENDAR