BEGIN:VCALENDAR
VERSION:2.0
PRODID:-//wp-events-plugin.com//6.4.6.4//EN
TZID:America/Detroit
X-WR-TIMEZONE:America/Detroit
BEGIN:VEVENT
UID:0-751@sites.udmercy.edu
DTSTART;TZID=America/Detroit:20250319T120000
DTEND;TZID=America/Detroit:20250319T120000
DTSTAMP:20250224T193951Z
URL:https://sites.udmercy.edu/campusconnection/events/omi-monthly-liturgy-
 4/
SUMMARY:OMI monthly liturgy
DESCRIPTION:All are invited to the next monthly liturgy of the Office of Mi
 ssion Integration (OMI) on Wednesday\, March 19 at noon in the St. Ignati
 us Chapel. This celebration will be an occasion to celebrate the Feast of 
 Saint Joseph.\n\nThere will be a pizza lunch afterward and time to visit w
 ith colleagues in the Commerce &amp\; Finance Building\, Room 213.\n\nAt e
 ach monthly OMI liturgy and lunch\, colleagues will have an opportunity to
  gather and reflect on a theme central to the University’s Jesuit and Me
 rcy educational mission. Persons of all religious backgrounds and/or those
  not affiliated with a religious tradition are encouraged to attend.
LOCATION:St. Ignatius Chapel\, 4001 W. McNichols Road\, Detroit\, MI\, Unit
 ed States
X-APPLE-STRUCTURED-LOCATION;VALUE=URI;X-ADDRESS=4001 W. McNichols Road\, De
 troit\, MI\, United States;X-APPLE-RADIUS=100;X-TITLE=St. Ignatius Chapel:
 geo:0,0
END:VEVENT
BEGIN:VTIMEZONE
TZID:America/Detroit
X-LIC-LOCATION:America/Detroit
BEGIN:DAYLIGHT
DTSTART:20250309T030000
TZOFFSETFROM:-0500
TZOFFSETTO:-0400
TZNAME:EDT
END:DAYLIGHT
END:VTIMEZONE
END:VCALENDAR