BEGIN:VCALENDAR
VERSION:2.0
PRODID:-//wp-events-plugin.com//6.4.6.4//EN
TZID:America/Detroit
X-WR-TIMEZONE:America/Detroit
BEGIN:VEVENT
UID:0-2@sites.udmercy.edu
DTSTART;TZID=America/Detroit:20220421T130000
DTEND;TZID=America/Detroit:20220421T140000
DTSTAMP:20220413T143955Z
URL:https://sites.udmercy.edu/campusconnection/events/our-planet-our-healt
 h-part-2/
SUMMARY:Our Planet\, Our Health - Part 2
DESCRIPTION:Part two\, at 1 p.m. Thursday\, April 21\, features a document
 ary titled “Great Lakes: One Water for Life” on which Detroit Mercy As
 sociate Professor of Health Administration Zigmond Kozicki collaborated.
  The documentary explores environmental water issues throughout the Great 
 Lakes.\n\nThe World Health Organization (WHO) designates each April 7 as a
  day to focus on health concerns around the world. According to the organi
 zation\, environmental causes such as natural disasters\, global warming\,
  the pandemic\, pollution\, poverty and war are responsible for some 13 mi
 llion deaths annually.
LOCATION:https://forms.office.com/Pages/ResponsePage.aspx?id=2MKkyGi9ukC4tn
 UivppxcebQF_R2MeZHmbMSXvXpK05UNDM1UjNTQlo2WTUzQk4yMDlSNTgwS0dNRy4u
END:VEVENT
BEGIN:VTIMEZONE
TZID:America/Detroit
X-LIC-LOCATION:America/Detroit
BEGIN:DAYLIGHT
DTSTART:20220313T030000
TZOFFSETFROM:-0500
TZOFFSETTO:-0400
TZNAME:EDT
END:DAYLIGHT
END:VTIMEZONE
END:VCALENDAR