BEGIN:VCALENDAR
VERSION:2.0
PRODID:-//wp-events-plugin.com//6.4.6.4//EN
TZID:America/Detroit
X-WR-TIMEZONE:America/Detroit
BEGIN:VEVENT
UID:0-1@sites.udmercy.edu
DTSTART;TZID=America/Detroit:20220419T130000
DTEND;TZID=America/Detroit:20220419T140000
DTSTAMP:20220413T143421Z
URL:https://sites.udmercy.edu/campusconnection/events/our-planet-our-healt
 h-presentation-from-detroit-mercy-law-associate-professor-nick-schroeck/
SUMMARY:Our Planet\, Our Health - Presentation from Detroit Mercy Law Assoc
 iate Professor Nick Schroeck
DESCRIPTION:“Our Planet\, Our Health” begins at 1 p.m. Tuesday\, April 
 19\, with a presentation from Detroit Mercy Law Associate Professor Nick S
 chroeck\, whose expertise is on environmental law. As a post-industrial ci
 ty\, Detroit’s pressing environmental concerns include exposure to above
 -normal pollutants\, a crumbling infrastructure with limited resources to 
 address it\, eroded basic city services\, limitations in transportation\, 
 housing and healthcare access and psychosocial stressors that curtail heal
 thy lifestyles and contribute to environmental health disparities.
LOCATION:https://forms.office.com/Pages/ResponsePage.aspx?id=2MKkyGi9ukC4tn
 UivppxcebQF_R2MeZHmbMSXvXpK05UNDM1UjNTQlo2WTUzQk4yMDlSNTgwS0dNRy4u
END:VEVENT
BEGIN:VTIMEZONE
TZID:America/Detroit
X-LIC-LOCATION:America/Detroit
BEGIN:DAYLIGHT
DTSTART:20220313T030000
TZOFFSETFROM:-0500
TZOFFSETTO:-0400
TZNAME:EDT
END:DAYLIGHT
END:VTIMEZONE
END:VCALENDAR