BEGIN:VCALENDAR
VERSION:2.0
PRODID:-//wp-events-plugin.com//6.4.6.4//EN
TZID:America/Detroit
X-WR-TIMEZONE:America/Detroit
BEGIN:VEVENT
UID:0-142@sites.udmercy.edu
DTSTART;TZID=America/Detroit:20230118T183000
DTEND;TZID=America/Detroit:20230118T200000
DTSTAMP:20230112T215432Z
URL:https://sites.udmercy.edu/campusconnection/events/panelist-discussion-
 breaking-down-barriers/
SUMMARY:Panelist discussion: Breaking Down Barriers
DESCRIPTION:Lauren Hood ’03\, ’12\, founder of the Institute for AfroUr
 banism at Detroit Mercy’s School of Architecture &amp\; Community Develo
 pment\, facilitates a panelist discussion of campus and community leaders 
 around the theme of “Breaking Down Barriers.”\n\nThe panel discussion 
 is set for 6:30-8 p.m. Wednesday\, Jan. 18 in the Bargman Room of the Mc
 Nichols Campus Library\, which is located on the second floor. All are wel
 come. Light refreshments will be provided.\n\nPanelists include: Darnetta 
 Banks\, neighborhood engagement manager for Brilliant Detroit and presiden
 t of the Prairie Street Block Club\; Sr. Helen Marie Burns\, RSM\, member 
 of Detroit Mercy’s Board of Trustees\; Michael Carter\, managing partner
  of Pinnacle Construction Partners and member of Detroit Mercy’s Board o
 f Trustees\; Dan Pitera\, dean of SACD\, Kyndal Wofford\, president of Bl
 ack Student Union\; and Zach Cotton\, vice president of Black Student Unio
 n.\n\nThe event is part of the series of programming in January and Febr
 uary from the University to commemorate the life of Martin Luther King Jr.
  and celebrating Black History Month.\n\nThis talk is sponsored by the Ins
 titute for Leadership &amp\; Service\, Student Life Office\, Dean of Stude
 nts Office and School of Architecture &amp\; Community Development.
LOCATION:Bargman Room\, McNichols Campus Library\, 4001 W. McNichols Road\,
  Detroit\, Michigan\, 48221\, United States
X-APPLE-STRUCTURED-LOCATION;VALUE=URI;X-ADDRESS=4001 W. McNichols Road\, De
 troit\, Michigan\, 48221\, United States;X-APPLE-RADIUS=100;X-TITLE=Bargma
 n Room\, McNichols Campus Library:geo:0,0
END:VEVENT
BEGIN:VTIMEZONE
TZID:America/Detroit
X-LIC-LOCATION:America/Detroit
BEGIN:STANDARD
DTSTART:20221106T010000
TZOFFSETFROM:-0400
TZOFFSETTO:-0500
TZNAME:EST
END:STANDARD
END:VTIMEZONE
END:VCALENDAR