BEGIN:VCALENDAR
VERSION:2.0
PRODID:-//wp-events-plugin.com//6.4.6.4//EN
TZID:America/Detroit
X-WR-TIMEZONE:America/Detroit
BEGIN:VEVENT
UID:0-137@sites.udmercy.edu
DTSTART;TZID=America/Detroit:20230206T190000
DTEND;TZID=America/Detroit:20230206T190000
DTSTAMP:20221212T200054Z
URL:https://sites.udmercy.edu/campusconnection/events/pistons-detroit-merc
 y-night/
SUMMARY:Pistons' Detroit Mercy Night
DESCRIPTION:Detroit Mercy will be featured during the College Night Series
  on Monday\, Feb. 6 at Little Caesars Arena when the hometown Detroit Pist
 ons take on the Boston Celtics in downtown Detroit.\n\nTicket prices start
  at $29 and include a limited-edition Pistons quarter-zip\, that features 
 the Detroit Mercy Titans logo. All you can eat seats in the North End Club
  are also available for purchase.\n\nTip-off for the NBA game is set for 7
  p.m. as the Pistons take on the visiting Celtics.\n\nTo purchase tickets\
 , please visit pistons.com/udmnight.
LOCATION:Little Caesars Arena\, 2645 Woodward Avenue\, Detroit\, Michigan\,
  48201\, United States
X-APPLE-STRUCTURED-LOCATION;VALUE=URI;X-ADDRESS=2645 Woodward Avenue\, Detr
 oit\, Michigan\, 48201\, United States;X-APPLE-RADIUS=100;X-TITLE=Little C
 aesars Arena:geo:0,0
END:VEVENT
BEGIN:VTIMEZONE
TZID:America/Detroit
X-LIC-LOCATION:America/Detroit
BEGIN:STANDARD
DTSTART:20221106T010000
TZOFFSETFROM:-0400
TZOFFSETTO:-0500
TZNAME:EST
END:STANDARD
END:VTIMEZONE
END:VCALENDAR