BEGIN:VCALENDAR
VERSION:2.0
PRODID:-//wp-events-plugin.com//6.4.6.4//EN
TZID:America/Detroit
X-WR-TIMEZONE:America/Detroit
BEGIN:VEVENT
UID:0-123@sites.udmercy.edu
DTSTART;TZID=America/Detroit:20221114T180000
DTEND;TZID=America/Detroit:20221114T180000
DTSTAMP:20221103T183342Z
URL:https://sites.udmercy.edu/campusconnection/events/pride-prejudice-audi
 tions/
SUMMARY:'Pride &amp\; Prejudice' auditions
DESCRIPTION:All Detroit Mercy students are welcome to audition for Detroit 
 Mercy Theatre Company's next production\, Pride and Prejudice.\n\nThe open
  auditions are set for Monday\, Nov. 14 at 6 p.m. in Reno Hall\, Room 164.
 \n\nCallbacks following the auditions will be the following night on Tuesd
 ay\, Nov. 15 at 6 p.m. in the same room.\n\nRequirements for the student a
 uditions include:\n\n 	Prepare one monologue\, preferably from a high come
 dy\, that is under 2 minutes.\n 	Dress comfortably (there will be a light 
 movement portion of the audition).\n 	No experience is required to auditio
 n (come with the desire to perform!).\n\nBold\, surprising\, boisterous an
 d timely\, Pride &amp\; Prejudice enters the world of the Bennet family a
 s outspoken sister Lizzy navigates love with the handsome and impossibly a
 ggravating Mr. Darcy. Written by Kate Hamill\, the play is based on the no
 vel by Jane Austen.\nMore information on auditions/production.
LOCATION:Reno Hall\, Room 164\, 4001 W. McNichols Road\, Detroit\, Michigan
 \, 48221\, United States
X-APPLE-STRUCTURED-LOCATION;VALUE=URI;X-ADDRESS=4001 W. McNichols Road\, De
 troit\, Michigan\, 48221\, United States;X-APPLE-RADIUS=100;X-TITLE=Reno H
 all\, Room 164:geo:0,0
END:VEVENT
BEGIN:VTIMEZONE
TZID:America/Detroit
X-LIC-LOCATION:America/Detroit
BEGIN:STANDARD
DTSTART:20221106T010000
TZOFFSETFROM:-0400
TZOFFSETTO:-0500
TZNAME:EST
END:STANDARD
END:VTIMEZONE
END:VCALENDAR