BEGIN:VCALENDAR
VERSION:2.0
PRODID:-//wp-events-plugin.com//6.4.6.4//EN
TZID:America/Detroit
X-WR-TIMEZONE:America/Detroit
BEGIN:VEVENT
UID:0-471@sites.udmercy.edu
DTSTART;TZID=America/Detroit:20241023T173000
DTEND;TZID=America/Detroit:20241023T173000
DTSTAMP:20240829T204434Z
URL:https://sites.udmercy.edu/campusconnection/events/prime-talk-with-kalp
 ana-kotagal/
SUMMARY:PRIME talk with Kalpana Kotagal
DESCRIPTION:Join the Center for Practice &amp\; Research in Management &amp
 \; Ethics (PRIME) for "A Personal and Professional Perspective on Civil Ri
 ghts\," featuring Equal Employment Opportunity Commission (EEOC) Commissio
 ner Kalpana Kotagal\, who will share her insights from a career dedicated 
 to supporting workers and championing diversity\, equity\, inclusion and a
 ccessibility.\n\nThis event will take place at on Oct. 23 at 5:30 p.m. in 
 the Student Union Ballroom on the McNichols Campus. Don't miss this opport
 unity to gain valuable knowledge and learn from a respected leader in the 
 field.\n\nThis event is free &amp\; open to the public with advanced regis
 tration.\n\nWe look forward to seeing you there!\nReserve your spot here!
LOCATION:Student Union Ballroom\, McNichols Campus\, 4001 W. McNichols\, De
 troit\, MI\, 48221\, United States
X-APPLE-STRUCTURED-LOCATION;VALUE=URI;X-ADDRESS=4001 W. McNichols\, Detroit
 \, MI\, 48221\, United States;X-APPLE-RADIUS=100;X-TITLE=Student Union Bal
 lroom\, McNichols Campus:geo:0,0
END:VEVENT
BEGIN:VTIMEZONE
TZID:America/Detroit
X-LIC-LOCATION:America/Detroit
BEGIN:DAYLIGHT
DTSTART:20240310T030000
TZOFFSETFROM:-0500
TZOFFSETTO:-0400
TZNAME:EDT
END:DAYLIGHT
END:VTIMEZONE
END:VCALENDAR