BEGIN:VCALENDAR
VERSION:2.0
PRODID:-//wp-events-plugin.com//6.4.6.4//EN
TZID:America/Detroit
X-WR-TIMEZONE:America/Detroit
BEGIN:VEVENT
UID:0-753@sites.udmercy.edu
DTSTART;TZID=America/Detroit:20250313T124500
DTEND;TZID=America/Detroit:20250313T134500
DTSTAMP:20250225T131913Z
URL:https://sites.udmercy.edu/campusconnection/events/pssa-tenn-environmen
 tal-advocacy-day/
SUMMARY:PSSA &amp\; TENN Environmental Advocacy Day
DESCRIPTION:Join the Political Science Student Association (PSSA) and Titan
  Equity Nourish Network (TENN) for a nonpartisan letter-writing campaign f
 or environmental justice!\n\nMake an impact on March 13 during dead hour f
 rom 12:45-1:45 p.m. in the Jane &amp\; Walter O. Briggs Building\, Room 01
 3\, by urging your state representatives to preserve the Environmental Pro
 tection Agency's mission. No experience? No problem! We’ll provide templ
 ates\, guidance and tools to make contacting your congressperson easy.\n\n
 Take action for a cleaner\, healthier future!\n\nFor any questions\, pleas
 e email tenn@udmercy.edu.
LOCATION:Briggs Building\, Room 013\, 4001 W. McNichols Road\, Detroit\, MI
 \, 48221\, United States
X-APPLE-STRUCTURED-LOCATION;VALUE=URI;X-ADDRESS=4001 W. McNichols Road\, De
 troit\, MI\, 48221\, United States;X-APPLE-RADIUS=100;X-TITLE=Briggs Build
 ing\, Room 013:geo:0,0
END:VEVENT
BEGIN:VTIMEZONE
TZID:America/Detroit
X-LIC-LOCATION:America/Detroit
BEGIN:DAYLIGHT
DTSTART:20250309T030000
TZOFFSETFROM:-0500
TZOFFSETTO:-0400
TZNAME:EDT
END:DAYLIGHT
END:VTIMEZONE
END:VCALENDAR