BEGIN:VCALENDAR
VERSION:2.0
PRODID:-//wp-events-plugin.com//6.4.6.4//EN
TZID:America/Detroit
X-WR-TIMEZONE:America/Detroit
BEGIN:VEVENT
UID:0-345@sites.udmercy.edu
DTSTART;TZID=America/Detroit:20240126T093000
DTEND;TZID=America/Detroit:20240126T093000
DTSTAMP:20240117T170613Z
URL:https://sites.udmercy.edu/campusconnection/events/qpr-suicide-preventi
 on-gatekeeper-training/
SUMMARY:QPR: Suicide Prevention Gatekeeper Training
DESCRIPTION:The College of Health Professions Wellness and Well-being Commi
 ttee will be presenting Question\, Persuade\, Refer (QPR): Suicide Prevent
 ion Gatekeeper Training on Friday\, Jan. 26 at 9:30 a.m.\n\nParticipant
 s will learn about the three simple steps to help save a life from suicide
 . Gatekeepers will be trained to recognize the warning signs of a suicide 
 crisis and how to question\, persuade and refer someone for help. Mental h
 ealth resources will also be provided during this virtual event.\n\nThis e
 vent is open to all employees of the University.\n\nLearn more about the 
 QPR Institute.\nRegister now!
END:VEVENT
BEGIN:VTIMEZONE
TZID:America/Detroit
X-LIC-LOCATION:America/Detroit
BEGIN:STANDARD
DTSTART:20231105T010000
TZOFFSETFROM:-0400
TZOFFSETTO:-0500
TZNAME:EST
END:STANDARD
END:VTIMEZONE
END:VCALENDAR