BEGIN:VCALENDAR
VERSION:2.0
PRODID:-//wp-events-plugin.com//6.4.6.4//EN
TZID:America/Detroit
X-WR-TIMEZONE:America/Detroit
BEGIN:VEVENT
UID:0-459@sites.udmercy.edu
DTSTART;TZID=America/Detroit:20240827T160000
DTEND;TZID=America/Detroit:20240827T190000
DTSTAMP:20240820T044330Z
URL:https://sites.udmercy.edu/campusconnection/events/recfest/
SUMMARY:RecFest
DESCRIPTION:Explore the diverse recreational opportunities offered by the U
 niversity Recreation department with the inaugural RecFest from 4-7 p.m. T
 hursday\, Aug. 27 inside of the Student Fitness Center.\n\nThe interactive
  event features food\, giveaways\, activities\, music\, and much more! For
  the first 100 attendees\, they'll receive free food\, free RecFest shirt\
 , free smoothies and free giveaways.\n\nIt'll also feature a food truck\, 
 dunk tank\, Photo Booth\, raffle prizes\, Esports trailer\, obstacle cours
 e\, sports inflatables\, bubble soccer\, tennis clinic\, fitness demos and
  challenges and more.\n\nSchedule for the Back Court:\n\n 	4-5 p.m. — Pi
 ckleball open play\n 	5-6 p.m. — Badminton open play\n 	6-7 p.m. — Wom
 en's volleyball clinic\n\nSchedule for the Front Court:\n\n 	4-5 p.m. — 
 Free throw/3-point competition\n 	5-6 p.m. — Dodgeball open play\n 	6-7 
 p.m. — Men's volleyball clinic\n
LOCATION:Student Fitness Center\, 4001 W. McNichols Road\, Detroit\, MI\, 4
 8221\, United States
X-APPLE-STRUCTURED-LOCATION;VALUE=URI;X-ADDRESS=4001 W. McNichols Road\, De
 troit\, MI\, 48221\, United States;X-APPLE-RADIUS=100;X-TITLE=Student Fitn
 ess Center:geo:0,0
END:VEVENT
BEGIN:VTIMEZONE
TZID:America/Detroit
X-LIC-LOCATION:America/Detroit
BEGIN:DAYLIGHT
DTSTART:20240310T030000
TZOFFSETFROM:-0500
TZOFFSETTO:-0400
TZNAME:EDT
END:DAYLIGHT
END:VTIMEZONE
END:VCALENDAR