BEGIN:VCALENDAR
VERSION:2.0
PRODID:-//wp-events-plugin.com//6.4.6.4//EN
TZID:America/Detroit
X-WR-TIMEZONE:America/Detroit
BEGIN:VEVENT
UID:0-1062@sites.udmercy.edu
DTSTART;TZID=America/Detroit:20260323T183000
DTEND;TZID=America/Detroit:20260323T183000
DTSTAMP:20260304T163236Z
URL:https://sites.udmercy.edu/campusconnection/events/rooted-in-faith-risi
 ng-in-strength-interfaith-womens-panel/
SUMMARY:Rooted in Faith: Rising in Strength interfaith women’s panel
DESCRIPTION:In celebration of International Women's Day and Women's History
  Month\, University Ministry will hold an inspiring interfaith panel featu
 ring women who will share their stories of faith and life.\n\nThe panel is
  set for Monday\, March 23\, from 6:30-8:30 p.m.\, in the Student Union Ba
 llroom.\n\nA peer wellness student leader will facilitate a self-care acti
 vity table during the event.\n\nLite bites and refreshments will be served
 . All are welcome to attend.\n\nPlease contact Director of University Mini
 stry Anita Klueg at kluegag@udmercy.edu for any questions or more informat
 ion.\n\nThis event is cohosted by the Hindu Community of Michigan\, the Mu
 slim Student Association and Peer Wellness.
LOCATION:Student Union Ballroom\, McNichols Campus\, 4001 W. McNichols\, De
 troit\, MI\, 48221\, United States
X-APPLE-STRUCTURED-LOCATION;VALUE=URI;X-ADDRESS=4001 W. McNichols\, Detroit
 \, MI\, 48221\, United States;X-APPLE-RADIUS=100;X-TITLE=Student Union Bal
 lroom\, McNichols Campus:geo:0,0
END:VEVENT
BEGIN:VTIMEZONE
TZID:America/Detroit
X-LIC-LOCATION:America/Detroit
BEGIN:DAYLIGHT
DTSTART:20260308T030000
TZOFFSETFROM:-0500
TZOFFSETTO:-0400
TZNAME:EDT
END:DAYLIGHT
END:VTIMEZONE
END:VCALENDAR