BEGIN:VCALENDAR
VERSION:2.0
PRODID:-//wp-events-plugin.com//6.4.6.4//EN
TZID:America/Detroit
X-WR-TIMEZONE:America/Detroit
BEGIN:VEVENT
UID:0-474@sites.udmercy.edu
DTSTART;TZID=America/Detroit:20240927T183000
DTEND;TZID=America/Detroit:20240927T200000
DTSTAMP:20240905T154707Z
URL:https://sites.udmercy.edu/campusconnection/events/sab-networking-event
 -during-homecoming/
SUMMARY:SAB networking event during Homecoming
DESCRIPTION:Don't miss this opportunity to network with alumni leaders duri
 ng Homecoming weekend.\n\nThe College of Business Administration's Student
  Advisory Board (SAB) will hold a free leadership networking event during 
 Homecoming weekend. The discussion and open mic/Q&amp\;A session will take
  place on Friday\, Sept. 27\, from 6:30-8 p.m. in the Student Union Ballro
 om. The event will feature alumni Asia Rawls from Magna International and 
 Tiquita Bell\, an author and entrepreneur\, discussing "The Highs and Lows
  of Leadership."\n\nAll are welcome.\nRegister here!
LOCATION:Student Union Ballroom\, McNichols Campus\, 4001 W. McNichols\, De
 troit\, MI\, 48221\, United States
X-APPLE-STRUCTURED-LOCATION;VALUE=URI;X-ADDRESS=4001 W. McNichols\, Detroit
 \, MI\, 48221\, United States;X-APPLE-RADIUS=100;X-TITLE=Student Union Bal
 lroom\, McNichols Campus:geo:0,0
END:VEVENT
BEGIN:VTIMEZONE
TZID:America/Detroit
X-LIC-LOCATION:America/Detroit
BEGIN:DAYLIGHT
DTSTART:20240310T030000
TZOFFSETFROM:-0500
TZOFFSETTO:-0400
TZNAME:EDT
END:DAYLIGHT
END:VTIMEZONE
END:VCALENDAR