BEGIN:VCALENDAR
VERSION:2.0
PRODID:-//wp-events-plugin.com//6.4.6.4//EN
TZID:America/Detroit
X-WR-TIMEZONE:America/Detroit
BEGIN:VEVENT
UID:0-611@sites.udmercy.edu
DTSTART;TZID=America/Detroit:20241110T130000
DTEND;TZID=America/Detroit:20241110T130000
DTSTAMP:20241105T135334Z
URL:https://sites.udmercy.edu/campusconnection/events/salute-to-service-ga
 me-days-at-calihan-hall-2/
SUMMARY:Salute to Service game days at Calihan Hall
DESCRIPTION:Veterans and those affiliated with military can receive complim
 entary tickets to two upcoming Titan basketball games! To get free tickets
 \, visit the ticket office in Calihan Hall on game day and show your milit
 ary ID.\n\nWhen:\nFriday\, Nov. 8 at 7 p.m. Women's basketball vs. Bowling
  Green\nSunday\, Nov. 10 at 1 p.m. Men's basketball vs. Niagara
LOCATION:Calihan Hall\, 4001 W. McNichols Road\, Detroit\, Michigan\, 48221
 \, United States
X-APPLE-STRUCTURED-LOCATION;VALUE=URI;X-ADDRESS=4001 W. McNichols Road\, De
 troit\, Michigan\, 48221\, United States;X-APPLE-RADIUS=100;X-TITLE=Caliha
 n Hall:geo:0,0
END:VEVENT
BEGIN:VTIMEZONE
TZID:America/Detroit
X-LIC-LOCATION:America/Detroit
BEGIN:STANDARD
DTSTART:20241103T010000
TZOFFSETFROM:-0400
TZOFFSETTO:-0500
TZNAME:EST
END:STANDARD
END:VTIMEZONE
END:VCALENDAR