BEGIN:VCALENDAR
VERSION:2.0
PRODID:-//wp-events-plugin.com//6.4.6.4//EN
TZID:America/Detroit
X-WR-TIMEZONE:America/Detroit
BEGIN:VEVENT
UID:0-742@sites.udmercy.edu
DTSTART;TZID=America/Detroit:20250409T093000
DTEND;TZID=America/Detroit:20250409T120000
DTSTAMP:20250312T180503Z
URL:https://sites.udmercy.edu/campusconnection/events/save-the-date-a-disc
 ussion-on-universal-suicide-screening-in-medical-settings/
SUMMARY:Universal suicide screening in medical settings discussion
DESCRIPTION:Join us for a vital conversation on the role of universal suici
 de screening in medical settings. This free event is open to everyone and 
 will take place on Wednesday\, April 9 from 9:30 a.m. to noon in the Stude
 nt Union Ballroom on the McNichols Campus. Refreshments will be provided.\
 n\nWith suicide being a leading public health concern\, early identificati
 on through routine screening can save lives. To truly strengthen suicide p
 revention\, efforts must expand beyond behavioral health and into general 
 medical care. A panel of medical professionals will explore its importance
 \, challenges and impact on patient care.\n\nStudents with a future career
  in healthcare are highly encouraged to attend. Several local agencies inv
 ested in suicide prevention will be present with resources.\n\nThis event 
 is sponsored by the College of Health Professions Wellness Committee and C
 NS Healthcare.\nPlease register in advance here! \n
LOCATION:Student Union Ballroom\, McNichols Campus\, 4001 W. McNichols\, De
 troit\, MI\, 48221\, United States
X-APPLE-STRUCTURED-LOCATION;VALUE=URI;X-ADDRESS=4001 W. McNichols\, Detroit
 \, MI\, 48221\, United States;X-APPLE-RADIUS=100;X-TITLE=Student Union Bal
 lroom\, McNichols Campus:geo:0,0
END:VEVENT
BEGIN:VTIMEZONE
TZID:America/Detroit
X-LIC-LOCATION:America/Detroit
BEGIN:DAYLIGHT
DTSTART:20250309T030000
TZOFFSETFROM:-0500
TZOFFSETTO:-0400
TZNAME:EDT
END:DAYLIGHT
END:VTIMEZONE
END:VCALENDAR